BEGIN:VCALENDAR
VERSION:2.0
PRODID:-//Yaq̓it ʔa·knuqⱡi’it First Nation - ECPv6.15.7//NONSGML v1.0//EN
CALSCALE:GREGORIAN
METHOD:PUBLISH
X-WR-CALNAME:Yaq̓it ʔa·knuqⱡi’it First Nation
X-ORIGINAL-URL:https://tobaccoplains.org
X-WR-CALDESC:Events for Yaq̓it ʔa·knuqⱡi’it First Nation
REFRESH-INTERVAL;VALUE=DURATION:PT1H
X-Robots-Tag:noindex
X-PUBLISHED-TTL:PT1H
BEGIN:VTIMEZONE
TZID:America/Edmonton
BEGIN:DAYLIGHT
TZOFFSETFROM:-0700
TZOFFSETTO:-0600
TZNAME:MDT
DTSTART:20260308T090000
END:DAYLIGHT
BEGIN:STANDARD
TZOFFSETFROM:-0600
TZOFFSETTO:-0700
TZNAME:MST
DTSTART:20261101T080000
END:STANDARD
BEGIN:DAYLIGHT
TZOFFSETFROM:-0700
TZOFFSETTO:-0600
TZNAME:MDT
DTSTART:20270314T090000
END:DAYLIGHT
BEGIN:STANDARD
TZOFFSETFROM:-0600
TZOFFSETTO:-0700
TZNAME:MST
DTSTART:20271107T080000
END:STANDARD
BEGIN:DAYLIGHT
TZOFFSETFROM:-0700
TZOFFSETTO:-0600
TZNAME:MDT
DTSTART:20280312T090000
END:DAYLIGHT
BEGIN:STANDARD
TZOFFSETFROM:-0600
TZOFFSETTO:-0700
TZNAME:MST
DTSTART:20281105T080000
END:STANDARD
BEGIN:DAYLIGHT
TZOFFSETFROM:-0700
TZOFFSETTO:-0600
TZNAME:MDT
DTSTART:20290311T090000
END:DAYLIGHT
BEGIN:STANDARD
TZOFFSETFROM:-0600
TZOFFSETTO:-0700
TZNAME:MST
DTSTART:20291104T080000
END:STANDARD
END:VTIMEZONE
BEGIN:VEVENT
DTSTART;TZID=America/Edmonton:20270910T083000
DTEND;TZID=America/Edmonton:20270910T163000
DTSTAMP:20260423T121135
CREATED:20260130T211741Z
LAST-MODIFIED:20260130T214927Z
UID:10000911-1820565000-1820593800@tobaccoplains.org
SUMMARY:Reiki Clinic
DESCRIPTION:*All our clinics are by appointment only* \nReiki Clinic runs on Fridays from 8:30 am – 4:30 pm \nFor questions or concerns or to book an appointment at any clinic call Reception: 250-887-3461 or email Kaleen at Kaleen.fowler@tobaccoplains.org
URL:https://tobaccoplains.org/tpib-event/reiki-clinic/2027-09-10
CATEGORIES:Health Care Clinics
END:VEVENT
BEGIN:VEVENT
DTSTART;TZID=America/Edmonton:20270917T083000
DTEND;TZID=America/Edmonton:20270917T163000
DTSTAMP:20260423T121135
CREATED:20260130T211741Z
LAST-MODIFIED:20260130T214927Z
UID:10000912-1821169800-1821198600@tobaccoplains.org
SUMMARY:Reiki Clinic
DESCRIPTION:*All our clinics are by appointment only* \nReiki Clinic runs on Fridays from 8:30 am – 4:30 pm \nFor questions or concerns or to book an appointment at any clinic call Reception: 250-887-3461 or email Kaleen at Kaleen.fowler@tobaccoplains.org
URL:https://tobaccoplains.org/tpib-event/reiki-clinic/2027-09-17
CATEGORIES:Health Care Clinics
END:VEVENT
BEGIN:VEVENT
DTSTART;TZID=America/Edmonton:20270924T083000
DTEND;TZID=America/Edmonton:20270924T163000
DTSTAMP:20260423T121135
CREATED:20260130T211741Z
LAST-MODIFIED:20260130T214927Z
UID:10000913-1821774600-1821803400@tobaccoplains.org
SUMMARY:Reiki Clinic
DESCRIPTION:*All our clinics are by appointment only* \nReiki Clinic runs on Fridays from 8:30 am – 4:30 pm \nFor questions or concerns or to book an appointment at any clinic call Reception: 250-887-3461 or email Kaleen at Kaleen.fowler@tobaccoplains.org
URL:https://tobaccoplains.org/tpib-event/reiki-clinic/2027-09-24
CATEGORIES:Health Care Clinics
END:VEVENT
BEGIN:VEVENT
DTSTART;TZID=America/Edmonton:20271001T083000
DTEND;TZID=America/Edmonton:20271001T163000
DTSTAMP:20260423T121135
CREATED:20260130T211741Z
LAST-MODIFIED:20260130T214927Z
UID:10000914-1822379400-1822408200@tobaccoplains.org
SUMMARY:Reiki Clinic
DESCRIPTION:*All our clinics are by appointment only* \nReiki Clinic runs on Fridays from 8:30 am – 4:30 pm \nFor questions or concerns or to book an appointment at any clinic call Reception: 250-887-3461 or email Kaleen at Kaleen.fowler@tobaccoplains.org
URL:https://tobaccoplains.org/tpib-event/reiki-clinic/2027-10-01
CATEGORIES:Health Care Clinics
END:VEVENT
BEGIN:VEVENT
DTSTART;TZID=America/Edmonton:20271008T083000
DTEND;TZID=America/Edmonton:20271008T163000
DTSTAMP:20260423T121135
CREATED:20260130T211741Z
LAST-MODIFIED:20260130T214927Z
UID:10000915-1822984200-1823013000@tobaccoplains.org
SUMMARY:Reiki Clinic
DESCRIPTION:*All our clinics are by appointment only* \nReiki Clinic runs on Fridays from 8:30 am – 4:30 pm \nFor questions or concerns or to book an appointment at any clinic call Reception: 250-887-3461 or email Kaleen at Kaleen.fowler@tobaccoplains.org
URL:https://tobaccoplains.org/tpib-event/reiki-clinic/2027-10-08
CATEGORIES:Health Care Clinics
END:VEVENT
BEGIN:VEVENT
DTSTART;TZID=America/Edmonton:20271015T083000
DTEND;TZID=America/Edmonton:20271015T163000
DTSTAMP:20260423T121135
CREATED:20260130T211741Z
LAST-MODIFIED:20260130T214927Z
UID:10000916-1823589000-1823617800@tobaccoplains.org
SUMMARY:Reiki Clinic
DESCRIPTION:*All our clinics are by appointment only* \nReiki Clinic runs on Fridays from 8:30 am – 4:30 pm \nFor questions or concerns or to book an appointment at any clinic call Reception: 250-887-3461 or email Kaleen at Kaleen.fowler@tobaccoplains.org
URL:https://tobaccoplains.org/tpib-event/reiki-clinic/2027-10-15
CATEGORIES:Health Care Clinics
END:VEVENT
BEGIN:VEVENT
DTSTART;TZID=America/Edmonton:20271022T083000
DTEND;TZID=America/Edmonton:20271022T163000
DTSTAMP:20260423T121135
CREATED:20260130T211741Z
LAST-MODIFIED:20260130T214927Z
UID:10000917-1824193800-1824222600@tobaccoplains.org
SUMMARY:Reiki Clinic
DESCRIPTION:*All our clinics are by appointment only* \nReiki Clinic runs on Fridays from 8:30 am – 4:30 pm \nFor questions or concerns or to book an appointment at any clinic call Reception: 250-887-3461 or email Kaleen at Kaleen.fowler@tobaccoplains.org
URL:https://tobaccoplains.org/tpib-event/reiki-clinic/2027-10-22
CATEGORIES:Health Care Clinics
END:VEVENT
BEGIN:VEVENT
DTSTART;TZID=America/Edmonton:20271029T083000
DTEND;TZID=America/Edmonton:20271029T163000
DTSTAMP:20260423T121135
CREATED:20260130T211741Z
LAST-MODIFIED:20260130T214927Z
UID:10000918-1824798600-1824827400@tobaccoplains.org
SUMMARY:Reiki Clinic
DESCRIPTION:*All our clinics are by appointment only* \nReiki Clinic runs on Fridays from 8:30 am – 4:30 pm \nFor questions or concerns or to book an appointment at any clinic call Reception: 250-887-3461 or email Kaleen at Kaleen.fowler@tobaccoplains.org
URL:https://tobaccoplains.org/tpib-event/reiki-clinic/2027-10-29
CATEGORIES:Health Care Clinics
END:VEVENT
BEGIN:VEVENT
DTSTART;TZID=America/Edmonton:20271105T083000
DTEND;TZID=America/Edmonton:20271105T163000
DTSTAMP:20260423T121135
CREATED:20260130T211741Z
LAST-MODIFIED:20260130T214927Z
UID:10000919-1825403400-1825432200@tobaccoplains.org
SUMMARY:Reiki Clinic
DESCRIPTION:*All our clinics are by appointment only* \nReiki Clinic runs on Fridays from 8:30 am – 4:30 pm \nFor questions or concerns or to book an appointment at any clinic call Reception: 250-887-3461 or email Kaleen at Kaleen.fowler@tobaccoplains.org
URL:https://tobaccoplains.org/tpib-event/reiki-clinic/2027-11-05
CATEGORIES:Health Care Clinics
END:VEVENT
BEGIN:VEVENT
DTSTART;TZID=America/Edmonton:20271112T083000
DTEND;TZID=America/Edmonton:20271112T163000
DTSTAMP:20260423T121135
CREATED:20260130T211741Z
LAST-MODIFIED:20260130T214927Z
UID:10000920-1826008200-1826037000@tobaccoplains.org
SUMMARY:Reiki Clinic
DESCRIPTION:*All our clinics are by appointment only* \nReiki Clinic runs on Fridays from 8:30 am – 4:30 pm \nFor questions or concerns or to book an appointment at any clinic call Reception: 250-887-3461 or email Kaleen at Kaleen.fowler@tobaccoplains.org
URL:https://tobaccoplains.org/tpib-event/reiki-clinic/2027-11-12
CATEGORIES:Health Care Clinics
END:VEVENT
BEGIN:VEVENT
DTSTART;TZID=America/Edmonton:20271119T083000
DTEND;TZID=America/Edmonton:20271119T163000
DTSTAMP:20260423T121135
CREATED:20260130T211741Z
LAST-MODIFIED:20260130T214927Z
UID:10000921-1826613000-1826641800@tobaccoplains.org
SUMMARY:Reiki Clinic
DESCRIPTION:*All our clinics are by appointment only* \nReiki Clinic runs on Fridays from 8:30 am – 4:30 pm \nFor questions or concerns or to book an appointment at any clinic call Reception: 250-887-3461 or email Kaleen at Kaleen.fowler@tobaccoplains.org
URL:https://tobaccoplains.org/tpib-event/reiki-clinic/2027-11-19
CATEGORIES:Health Care Clinics
END:VEVENT
BEGIN:VEVENT
DTSTART;TZID=America/Edmonton:20271126T083000
DTEND;TZID=America/Edmonton:20271126T163000
DTSTAMP:20260423T121135
CREATED:20260130T211741Z
LAST-MODIFIED:20260130T214927Z
UID:10000922-1827217800-1827246600@tobaccoplains.org
SUMMARY:Reiki Clinic
DESCRIPTION:*All our clinics are by appointment only* \nReiki Clinic runs on Fridays from 8:30 am – 4:30 pm \nFor questions or concerns or to book an appointment at any clinic call Reception: 250-887-3461 or email Kaleen at Kaleen.fowler@tobaccoplains.org
URL:https://tobaccoplains.org/tpib-event/reiki-clinic/2027-11-26
CATEGORIES:Health Care Clinics
END:VEVENT
BEGIN:VEVENT
DTSTART;TZID=America/Edmonton:20271203T083000
DTEND;TZID=America/Edmonton:20271203T163000
DTSTAMP:20260423T121135
CREATED:20260130T211741Z
LAST-MODIFIED:20260130T214927Z
UID:10000923-1827822600-1827851400@tobaccoplains.org
SUMMARY:Reiki Clinic
DESCRIPTION:*All our clinics are by appointment only* \nReiki Clinic runs on Fridays from 8:30 am – 4:30 pm \nFor questions or concerns or to book an appointment at any clinic call Reception: 250-887-3461 or email Kaleen at Kaleen.fowler@tobaccoplains.org
URL:https://tobaccoplains.org/tpib-event/reiki-clinic/2027-12-03
CATEGORIES:Health Care Clinics
END:VEVENT
BEGIN:VEVENT
DTSTART;TZID=America/Edmonton:20271210T083000
DTEND;TZID=America/Edmonton:20271210T163000
DTSTAMP:20260423T121135
CREATED:20260130T211741Z
LAST-MODIFIED:20260130T214927Z
UID:10000924-1828427400-1828456200@tobaccoplains.org
SUMMARY:Reiki Clinic
DESCRIPTION:*All our clinics are by appointment only* \nReiki Clinic runs on Fridays from 8:30 am – 4:30 pm \nFor questions or concerns or to book an appointment at any clinic call Reception: 250-887-3461 or email Kaleen at Kaleen.fowler@tobaccoplains.org
URL:https://tobaccoplains.org/tpib-event/reiki-clinic/2027-12-10
CATEGORIES:Health Care Clinics
END:VEVENT
BEGIN:VEVENT
DTSTART;TZID=America/Edmonton:20271217T083000
DTEND;TZID=America/Edmonton:20271217T163000
DTSTAMP:20260423T121135
CREATED:20260130T211741Z
LAST-MODIFIED:20260130T214927Z
UID:10000925-1829032200-1829061000@tobaccoplains.org
SUMMARY:Reiki Clinic
DESCRIPTION:*All our clinics are by appointment only* \nReiki Clinic runs on Fridays from 8:30 am – 4:30 pm \nFor questions or concerns or to book an appointment at any clinic call Reception: 250-887-3461 or email Kaleen at Kaleen.fowler@tobaccoplains.org
URL:https://tobaccoplains.org/tpib-event/reiki-clinic/2027-12-17
CATEGORIES:Health Care Clinics
END:VEVENT
BEGIN:VEVENT
DTSTART;TZID=America/Edmonton:20271224T083000
DTEND;TZID=America/Edmonton:20271224T163000
DTSTAMP:20260423T121135
CREATED:20260130T211741Z
LAST-MODIFIED:20260130T214927Z
UID:10000926-1829637000-1829665800@tobaccoplains.org
SUMMARY:Reiki Clinic
DESCRIPTION:*All our clinics are by appointment only* \nReiki Clinic runs on Fridays from 8:30 am – 4:30 pm \nFor questions or concerns or to book an appointment at any clinic call Reception: 250-887-3461 or email Kaleen at Kaleen.fowler@tobaccoplains.org
URL:https://tobaccoplains.org/tpib-event/reiki-clinic/2027-12-24
CATEGORIES:Health Care Clinics
END:VEVENT
BEGIN:VEVENT
DTSTART;TZID=America/Edmonton:20271231T083000
DTEND;TZID=America/Edmonton:20271231T163000
DTSTAMP:20260423T121135
CREATED:20260130T211741Z
LAST-MODIFIED:20260130T214927Z
UID:10000927-1830241800-1830270600@tobaccoplains.org
SUMMARY:Reiki Clinic
DESCRIPTION:*All our clinics are by appointment only* \nReiki Clinic runs on Fridays from 8:30 am – 4:30 pm \nFor questions or concerns or to book an appointment at any clinic call Reception: 250-887-3461 or email Kaleen at Kaleen.fowler@tobaccoplains.org
URL:https://tobaccoplains.org/tpib-event/reiki-clinic/2027-12-31
CATEGORIES:Health Care Clinics
END:VEVENT
BEGIN:VEVENT
DTSTART;TZID=America/Edmonton:20280107T083000
DTEND;TZID=America/Edmonton:20280107T163000
DTSTAMP:20260423T121135
CREATED:20260130T211741Z
LAST-MODIFIED:20260130T214927Z
UID:10000928-1830846600-1830875400@tobaccoplains.org
SUMMARY:Reiki Clinic
DESCRIPTION:*All our clinics are by appointment only* \nReiki Clinic runs on Fridays from 8:30 am – 4:30 pm \nFor questions or concerns or to book an appointment at any clinic call Reception: 250-887-3461 or email Kaleen at Kaleen.fowler@tobaccoplains.org
URL:https://tobaccoplains.org/tpib-event/reiki-clinic/2028-01-07
CATEGORIES:Health Care Clinics
END:VEVENT
BEGIN:VEVENT
DTSTART;TZID=America/Edmonton:20280114T083000
DTEND;TZID=America/Edmonton:20280114T163000
DTSTAMP:20260423T121135
CREATED:20260130T211741Z
LAST-MODIFIED:20260130T214927Z
UID:10000929-1831451400-1831480200@tobaccoplains.org
SUMMARY:Reiki Clinic
DESCRIPTION:*All our clinics are by appointment only* \nReiki Clinic runs on Fridays from 8:30 am – 4:30 pm \nFor questions or concerns or to book an appointment at any clinic call Reception: 250-887-3461 or email Kaleen at Kaleen.fowler@tobaccoplains.org
URL:https://tobaccoplains.org/tpib-event/reiki-clinic/2028-01-14
CATEGORIES:Health Care Clinics
END:VEVENT
BEGIN:VEVENT
DTSTART;TZID=America/Edmonton:20280121T083000
DTEND;TZID=America/Edmonton:20280121T163000
DTSTAMP:20260423T121135
CREATED:20260130T211741Z
LAST-MODIFIED:20260130T214927Z
UID:10000930-1832056200-1832085000@tobaccoplains.org
SUMMARY:Reiki Clinic
DESCRIPTION:*All our clinics are by appointment only* \nReiki Clinic runs on Fridays from 8:30 am – 4:30 pm \nFor questions or concerns or to book an appointment at any clinic call Reception: 250-887-3461 or email Kaleen at Kaleen.fowler@tobaccoplains.org
URL:https://tobaccoplains.org/tpib-event/reiki-clinic/2028-01-21
CATEGORIES:Health Care Clinics
END:VEVENT
BEGIN:VEVENT
DTSTART;TZID=America/Edmonton:20280128T083000
DTEND;TZID=America/Edmonton:20280128T163000
DTSTAMP:20260423T121135
CREATED:20260130T211741Z
LAST-MODIFIED:20260130T214927Z
UID:10000931-1832661000-1832689800@tobaccoplains.org
SUMMARY:Reiki Clinic
DESCRIPTION:*All our clinics are by appointment only* \nReiki Clinic runs on Fridays from 8:30 am – 4:30 pm \nFor questions or concerns or to book an appointment at any clinic call Reception: 250-887-3461 or email Kaleen at Kaleen.fowler@tobaccoplains.org
URL:https://tobaccoplains.org/tpib-event/reiki-clinic/2028-01-28
CATEGORIES:Health Care Clinics
END:VEVENT
BEGIN:VEVENT
DTSTART;TZID=America/Edmonton:20280204T083000
DTEND;TZID=America/Edmonton:20280204T163000
DTSTAMP:20260423T121135
CREATED:20260130T211741Z
LAST-MODIFIED:20260130T214927Z
UID:10000932-1833265800-1833294600@tobaccoplains.org
SUMMARY:Reiki Clinic
DESCRIPTION:*All our clinics are by appointment only* \nReiki Clinic runs on Fridays from 8:30 am – 4:30 pm \nFor questions or concerns or to book an appointment at any clinic call Reception: 250-887-3461 or email Kaleen at Kaleen.fowler@tobaccoplains.org
URL:https://tobaccoplains.org/tpib-event/reiki-clinic/2028-02-04
CATEGORIES:Health Care Clinics
END:VEVENT
BEGIN:VEVENT
DTSTART;TZID=America/Edmonton:20280211T083000
DTEND;TZID=America/Edmonton:20280211T163000
DTSTAMP:20260423T121135
CREATED:20260130T211741Z
LAST-MODIFIED:20260130T214927Z
UID:10000933-1833870600-1833899400@tobaccoplains.org
SUMMARY:Reiki Clinic
DESCRIPTION:*All our clinics are by appointment only* \nReiki Clinic runs on Fridays from 8:30 am – 4:30 pm \nFor questions or concerns or to book an appointment at any clinic call Reception: 250-887-3461 or email Kaleen at Kaleen.fowler@tobaccoplains.org
URL:https://tobaccoplains.org/tpib-event/reiki-clinic/2028-02-11
CATEGORIES:Health Care Clinics
END:VEVENT
BEGIN:VEVENT
DTSTART;TZID=America/Edmonton:20280218T083000
DTEND;TZID=America/Edmonton:20280218T163000
DTSTAMP:20260423T121135
CREATED:20260130T211741Z
LAST-MODIFIED:20260130T214927Z
UID:10000934-1834475400-1834504200@tobaccoplains.org
SUMMARY:Reiki Clinic
DESCRIPTION:*All our clinics are by appointment only* \nReiki Clinic runs on Fridays from 8:30 am – 4:30 pm \nFor questions or concerns or to book an appointment at any clinic call Reception: 250-887-3461 or email Kaleen at Kaleen.fowler@tobaccoplains.org
URL:https://tobaccoplains.org/tpib-event/reiki-clinic/2028-02-18
CATEGORIES:Health Care Clinics
END:VEVENT
BEGIN:VEVENT
DTSTART;TZID=America/Edmonton:20280225T083000
DTEND;TZID=America/Edmonton:20280225T163000
DTSTAMP:20260423T121135
CREATED:20260130T211741Z
LAST-MODIFIED:20260130T214927Z
UID:10000935-1835080200-1835109000@tobaccoplains.org
SUMMARY:Reiki Clinic
DESCRIPTION:*All our clinics are by appointment only* \nReiki Clinic runs on Fridays from 8:30 am – 4:30 pm \nFor questions or concerns or to book an appointment at any clinic call Reception: 250-887-3461 or email Kaleen at Kaleen.fowler@tobaccoplains.org
URL:https://tobaccoplains.org/tpib-event/reiki-clinic/2028-02-25
CATEGORIES:Health Care Clinics
END:VEVENT
BEGIN:VEVENT
DTSTART;TZID=America/Edmonton:20280303T083000
DTEND;TZID=America/Edmonton:20280303T163000
DTSTAMP:20260423T121135
CREATED:20260130T211741Z
LAST-MODIFIED:20260130T214927Z
UID:10000936-1835685000-1835713800@tobaccoplains.org
SUMMARY:Reiki Clinic
DESCRIPTION:*All our clinics are by appointment only* \nReiki Clinic runs on Fridays from 8:30 am – 4:30 pm \nFor questions or concerns or to book an appointment at any clinic call Reception: 250-887-3461 or email Kaleen at Kaleen.fowler@tobaccoplains.org
URL:https://tobaccoplains.org/tpib-event/reiki-clinic/2028-03-03
CATEGORIES:Health Care Clinics
END:VEVENT
BEGIN:VEVENT
DTSTART;TZID=America/Edmonton:20280310T083000
DTEND;TZID=America/Edmonton:20280310T163000
DTSTAMP:20260423T121135
CREATED:20260130T211741Z
LAST-MODIFIED:20260130T214927Z
UID:10000937-1836289800-1836318600@tobaccoplains.org
SUMMARY:Reiki Clinic
DESCRIPTION:*All our clinics are by appointment only* \nReiki Clinic runs on Fridays from 8:30 am – 4:30 pm \nFor questions or concerns or to book an appointment at any clinic call Reception: 250-887-3461 or email Kaleen at Kaleen.fowler@tobaccoplains.org
URL:https://tobaccoplains.org/tpib-event/reiki-clinic/2028-03-10
CATEGORIES:Health Care Clinics
END:VEVENT
BEGIN:VEVENT
DTSTART;TZID=America/Edmonton:20280317T083000
DTEND;TZID=America/Edmonton:20280317T163000
DTSTAMP:20260423T121135
CREATED:20260130T211741Z
LAST-MODIFIED:20260130T214927Z
UID:10000938-1836894600-1836923400@tobaccoplains.org
SUMMARY:Reiki Clinic
DESCRIPTION:*All our clinics are by appointment only* \nReiki Clinic runs on Fridays from 8:30 am – 4:30 pm \nFor questions or concerns or to book an appointment at any clinic call Reception: 250-887-3461 or email Kaleen at Kaleen.fowler@tobaccoplains.org
URL:https://tobaccoplains.org/tpib-event/reiki-clinic/2028-03-17
CATEGORIES:Health Care Clinics
END:VEVENT
BEGIN:VEVENT
DTSTART;TZID=America/Edmonton:20280324T083000
DTEND;TZID=America/Edmonton:20280324T163000
DTSTAMP:20260423T121135
CREATED:20260130T211741Z
LAST-MODIFIED:20260130T214927Z
UID:10000939-1837499400-1837528200@tobaccoplains.org
SUMMARY:Reiki Clinic
DESCRIPTION:*All our clinics are by appointment only* \nReiki Clinic runs on Fridays from 8:30 am – 4:30 pm \nFor questions or concerns or to book an appointment at any clinic call Reception: 250-887-3461 or email Kaleen at Kaleen.fowler@tobaccoplains.org
URL:https://tobaccoplains.org/tpib-event/reiki-clinic/2028-03-24
CATEGORIES:Health Care Clinics
END:VEVENT
BEGIN:VEVENT
DTSTART;TZID=America/Edmonton:20280331T083000
DTEND;TZID=America/Edmonton:20280331T163000
DTSTAMP:20260423T121135
CREATED:20260130T211741Z
LAST-MODIFIED:20260130T214927Z
UID:10000940-1838104200-1838133000@tobaccoplains.org
SUMMARY:Reiki Clinic
DESCRIPTION:*All our clinics are by appointment only* \nReiki Clinic runs on Fridays from 8:30 am – 4:30 pm \nFor questions or concerns or to book an appointment at any clinic call Reception: 250-887-3461 or email Kaleen at Kaleen.fowler@tobaccoplains.org
URL:https://tobaccoplains.org/tpib-event/reiki-clinic/2028-03-31
CATEGORIES:Health Care Clinics
END:VEVENT
END:VCALENDAR