BEGIN:VCALENDAR
VERSION:2.0
PRODID:-//Yaq̓it ʔa·knuqⱡi’it First Nation - ECPv6.15.7//NONSGML v1.0//EN
CALSCALE:GREGORIAN
METHOD:PUBLISH
X-WR-CALNAME:Yaq̓it ʔa·knuqⱡi’it First Nation
X-ORIGINAL-URL:https://tobaccoplains.org
X-WR-CALDESC:Events for Yaq̓it ʔa·knuqⱡi’it First Nation
REFRESH-INTERVAL;VALUE=DURATION:PT1H
X-Robots-Tag:noindex
X-PUBLISHED-TTL:PT1H
BEGIN:VTIMEZONE
TZID:America/Edmonton
BEGIN:DAYLIGHT
TZOFFSETFROM:-0700
TZOFFSETTO:-0600
TZNAME:MDT
DTSTART:20290311T090000
END:DAYLIGHT
BEGIN:STANDARD
TZOFFSETFROM:-0600
TZOFFSETTO:-0700
TZNAME:MST
DTSTART:20291104T080000
END:STANDARD
BEGIN:DAYLIGHT
TZOFFSETFROM:-0700
TZOFFSETTO:-0600
TZNAME:MDT
DTSTART:20300310T090000
END:DAYLIGHT
BEGIN:STANDARD
TZOFFSETFROM:-0600
TZOFFSETTO:-0700
TZNAME:MST
DTSTART:20301103T080000
END:STANDARD
BEGIN:DAYLIGHT
TZOFFSETFROM:-0700
TZOFFSETTO:-0600
TZNAME:MDT
DTSTART:20310309T090000
END:DAYLIGHT
BEGIN:STANDARD
TZOFFSETFROM:-0600
TZOFFSETTO:-0700
TZNAME:MST
DTSTART:20311102T080000
END:STANDARD
BEGIN:DAYLIGHT
TZOFFSETFROM:-0700
TZOFFSETTO:-0600
TZNAME:MDT
DTSTART:20320314T090000
END:DAYLIGHT
BEGIN:STANDARD
TZOFFSETFROM:-0600
TZOFFSETTO:-0700
TZNAME:MST
DTSTART:20321107T080000
END:STANDARD
END:VTIMEZONE
BEGIN:VEVENT
DTSTART;TZID=America/Edmonton:20300614T083000
DTEND;TZID=America/Edmonton:20300614T163000
DTSTAMP:20260424T083839
CREATED:20260130T211741Z
LAST-MODIFIED:20260130T214927Z
UID:10001055-1907656200-1907685000@tobaccoplains.org
SUMMARY:Reiki Clinic
DESCRIPTION:*All our clinics are by appointment only* \nReiki Clinic runs on Fridays from 8:30 am – 4:30 pm \nFor questions or concerns or to book an appointment at any clinic call Reception: 250-887-3461 or email Kaleen at Kaleen.fowler@tobaccoplains.org
URL:https://tobaccoplains.org/tpib-event/reiki-clinic/2030-06-14
CATEGORIES:Health Care Clinics
END:VEVENT
BEGIN:VEVENT
DTSTART;TZID=America/Edmonton:20300621T083000
DTEND;TZID=America/Edmonton:20300621T163000
DTSTAMP:20260424T083839
CREATED:20260130T211741Z
LAST-MODIFIED:20260130T214927Z
UID:10001056-1908261000-1908289800@tobaccoplains.org
SUMMARY:Reiki Clinic
DESCRIPTION:*All our clinics are by appointment only* \nReiki Clinic runs on Fridays from 8:30 am – 4:30 pm \nFor questions or concerns or to book an appointment at any clinic call Reception: 250-887-3461 or email Kaleen at Kaleen.fowler@tobaccoplains.org
URL:https://tobaccoplains.org/tpib-event/reiki-clinic/2030-06-21
CATEGORIES:Health Care Clinics
END:VEVENT
BEGIN:VEVENT
DTSTART;TZID=America/Edmonton:20300628T083000
DTEND;TZID=America/Edmonton:20300628T163000
DTSTAMP:20260424T083839
CREATED:20260130T211741Z
LAST-MODIFIED:20260130T214927Z
UID:10001057-1908865800-1908894600@tobaccoplains.org
SUMMARY:Reiki Clinic
DESCRIPTION:*All our clinics are by appointment only* \nReiki Clinic runs on Fridays from 8:30 am – 4:30 pm \nFor questions or concerns or to book an appointment at any clinic call Reception: 250-887-3461 or email Kaleen at Kaleen.fowler@tobaccoplains.org
URL:https://tobaccoplains.org/tpib-event/reiki-clinic/2030-06-28
CATEGORIES:Health Care Clinics
END:VEVENT
BEGIN:VEVENT
DTSTART;TZID=America/Edmonton:20300705T083000
DTEND;TZID=America/Edmonton:20300705T163000
DTSTAMP:20260424T083839
CREATED:20260130T211741Z
LAST-MODIFIED:20260130T214927Z
UID:10001058-1909470600-1909499400@tobaccoplains.org
SUMMARY:Reiki Clinic
DESCRIPTION:*All our clinics are by appointment only* \nReiki Clinic runs on Fridays from 8:30 am – 4:30 pm \nFor questions or concerns or to book an appointment at any clinic call Reception: 250-887-3461 or email Kaleen at Kaleen.fowler@tobaccoplains.org
URL:https://tobaccoplains.org/tpib-event/reiki-clinic/2030-07-05
CATEGORIES:Health Care Clinics
END:VEVENT
BEGIN:VEVENT
DTSTART;TZID=America/Edmonton:20300712T083000
DTEND;TZID=America/Edmonton:20300712T163000
DTSTAMP:20260424T083839
CREATED:20260130T211741Z
LAST-MODIFIED:20260130T214927Z
UID:10001059-1910075400-1910104200@tobaccoplains.org
SUMMARY:Reiki Clinic
DESCRIPTION:*All our clinics are by appointment only* \nReiki Clinic runs on Fridays from 8:30 am – 4:30 pm \nFor questions or concerns or to book an appointment at any clinic call Reception: 250-887-3461 or email Kaleen at Kaleen.fowler@tobaccoplains.org
URL:https://tobaccoplains.org/tpib-event/reiki-clinic/2030-07-12
CATEGORIES:Health Care Clinics
END:VEVENT
BEGIN:VEVENT
DTSTART;TZID=America/Edmonton:20300719T083000
DTEND;TZID=America/Edmonton:20300719T163000
DTSTAMP:20260424T083839
CREATED:20260130T211741Z
LAST-MODIFIED:20260130T214927Z
UID:10001060-1910680200-1910709000@tobaccoplains.org
SUMMARY:Reiki Clinic
DESCRIPTION:*All our clinics are by appointment only* \nReiki Clinic runs on Fridays from 8:30 am – 4:30 pm \nFor questions or concerns or to book an appointment at any clinic call Reception: 250-887-3461 or email Kaleen at Kaleen.fowler@tobaccoplains.org
URL:https://tobaccoplains.org/tpib-event/reiki-clinic/2030-07-19
CATEGORIES:Health Care Clinics
END:VEVENT
BEGIN:VEVENT
DTSTART;TZID=America/Edmonton:20300726T083000
DTEND;TZID=America/Edmonton:20300726T163000
DTSTAMP:20260424T083839
CREATED:20260130T211741Z
LAST-MODIFIED:20260130T214927Z
UID:10001061-1911285000-1911313800@tobaccoplains.org
SUMMARY:Reiki Clinic
DESCRIPTION:*All our clinics are by appointment only* \nReiki Clinic runs on Fridays from 8:30 am – 4:30 pm \nFor questions or concerns or to book an appointment at any clinic call Reception: 250-887-3461 or email Kaleen at Kaleen.fowler@tobaccoplains.org
URL:https://tobaccoplains.org/tpib-event/reiki-clinic/2030-07-26
CATEGORIES:Health Care Clinics
END:VEVENT
BEGIN:VEVENT
DTSTART;TZID=America/Edmonton:20300802T083000
DTEND;TZID=America/Edmonton:20300802T163000
DTSTAMP:20260424T083839
CREATED:20260130T211741Z
LAST-MODIFIED:20260130T214927Z
UID:10001062-1911889800-1911918600@tobaccoplains.org
SUMMARY:Reiki Clinic
DESCRIPTION:*All our clinics are by appointment only* \nReiki Clinic runs on Fridays from 8:30 am – 4:30 pm \nFor questions or concerns or to book an appointment at any clinic call Reception: 250-887-3461 or email Kaleen at Kaleen.fowler@tobaccoplains.org
URL:https://tobaccoplains.org/tpib-event/reiki-clinic/2030-08-02
CATEGORIES:Health Care Clinics
END:VEVENT
BEGIN:VEVENT
DTSTART;TZID=America/Edmonton:20300809T083000
DTEND;TZID=America/Edmonton:20300809T163000
DTSTAMP:20260424T083839
CREATED:20260130T211741Z
LAST-MODIFIED:20260130T214927Z
UID:10001063-1912494600-1912523400@tobaccoplains.org
SUMMARY:Reiki Clinic
DESCRIPTION:*All our clinics are by appointment only* \nReiki Clinic runs on Fridays from 8:30 am – 4:30 pm \nFor questions or concerns or to book an appointment at any clinic call Reception: 250-887-3461 or email Kaleen at Kaleen.fowler@tobaccoplains.org
URL:https://tobaccoplains.org/tpib-event/reiki-clinic/2030-08-09
CATEGORIES:Health Care Clinics
END:VEVENT
BEGIN:VEVENT
DTSTART;TZID=America/Edmonton:20300816T083000
DTEND;TZID=America/Edmonton:20300816T163000
DTSTAMP:20260424T083839
CREATED:20260130T211741Z
LAST-MODIFIED:20260130T214927Z
UID:10001064-1913099400-1913128200@tobaccoplains.org
SUMMARY:Reiki Clinic
DESCRIPTION:*All our clinics are by appointment only* \nReiki Clinic runs on Fridays from 8:30 am – 4:30 pm \nFor questions or concerns or to book an appointment at any clinic call Reception: 250-887-3461 or email Kaleen at Kaleen.fowler@tobaccoplains.org
URL:https://tobaccoplains.org/tpib-event/reiki-clinic/2030-08-16
CATEGORIES:Health Care Clinics
END:VEVENT
BEGIN:VEVENT
DTSTART;TZID=America/Edmonton:20300823T083000
DTEND;TZID=America/Edmonton:20300823T163000
DTSTAMP:20260424T083839
CREATED:20260130T211741Z
LAST-MODIFIED:20260130T214927Z
UID:10001065-1913704200-1913733000@tobaccoplains.org
SUMMARY:Reiki Clinic
DESCRIPTION:*All our clinics are by appointment only* \nReiki Clinic runs on Fridays from 8:30 am – 4:30 pm \nFor questions or concerns or to book an appointment at any clinic call Reception: 250-887-3461 or email Kaleen at Kaleen.fowler@tobaccoplains.org
URL:https://tobaccoplains.org/tpib-event/reiki-clinic/2030-08-23
CATEGORIES:Health Care Clinics
END:VEVENT
BEGIN:VEVENT
DTSTART;TZID=America/Edmonton:20300830T083000
DTEND;TZID=America/Edmonton:20300830T163000
DTSTAMP:20260424T083839
CREATED:20260130T211741Z
LAST-MODIFIED:20260130T214927Z
UID:10001066-1914309000-1914337800@tobaccoplains.org
SUMMARY:Reiki Clinic
DESCRIPTION:*All our clinics are by appointment only* \nReiki Clinic runs on Fridays from 8:30 am – 4:30 pm \nFor questions or concerns or to book an appointment at any clinic call Reception: 250-887-3461 or email Kaleen at Kaleen.fowler@tobaccoplains.org
URL:https://tobaccoplains.org/tpib-event/reiki-clinic/2030-08-30
CATEGORIES:Health Care Clinics
END:VEVENT
BEGIN:VEVENT
DTSTART;TZID=America/Edmonton:20300906T083000
DTEND;TZID=America/Edmonton:20300906T163000
DTSTAMP:20260424T083839
CREATED:20260130T211741Z
LAST-MODIFIED:20260130T214927Z
UID:10001067-1914913800-1914942600@tobaccoplains.org
SUMMARY:Reiki Clinic
DESCRIPTION:*All our clinics are by appointment only* \nReiki Clinic runs on Fridays from 8:30 am – 4:30 pm \nFor questions or concerns or to book an appointment at any clinic call Reception: 250-887-3461 or email Kaleen at Kaleen.fowler@tobaccoplains.org
URL:https://tobaccoplains.org/tpib-event/reiki-clinic/2030-09-06
CATEGORIES:Health Care Clinics
END:VEVENT
BEGIN:VEVENT
DTSTART;TZID=America/Edmonton:20300913T083000
DTEND;TZID=America/Edmonton:20300913T163000
DTSTAMP:20260424T083839
CREATED:20260130T211741Z
LAST-MODIFIED:20260130T214927Z
UID:10001068-1915518600-1915547400@tobaccoplains.org
SUMMARY:Reiki Clinic
DESCRIPTION:*All our clinics are by appointment only* \nReiki Clinic runs on Fridays from 8:30 am – 4:30 pm \nFor questions or concerns or to book an appointment at any clinic call Reception: 250-887-3461 or email Kaleen at Kaleen.fowler@tobaccoplains.org
URL:https://tobaccoplains.org/tpib-event/reiki-clinic/2030-09-13
CATEGORIES:Health Care Clinics
END:VEVENT
BEGIN:VEVENT
DTSTART;TZID=America/Edmonton:20300920T083000
DTEND;TZID=America/Edmonton:20300920T163000
DTSTAMP:20260424T083839
CREATED:20260130T211741Z
LAST-MODIFIED:20260130T214927Z
UID:10001069-1916123400-1916152200@tobaccoplains.org
SUMMARY:Reiki Clinic
DESCRIPTION:*All our clinics are by appointment only* \nReiki Clinic runs on Fridays from 8:30 am – 4:30 pm \nFor questions or concerns or to book an appointment at any clinic call Reception: 250-887-3461 or email Kaleen at Kaleen.fowler@tobaccoplains.org
URL:https://tobaccoplains.org/tpib-event/reiki-clinic/2030-09-20
CATEGORIES:Health Care Clinics
END:VEVENT
BEGIN:VEVENT
DTSTART;TZID=America/Edmonton:20300927T083000
DTEND;TZID=America/Edmonton:20300927T163000
DTSTAMP:20260424T083839
CREATED:20260130T211741Z
LAST-MODIFIED:20260130T214927Z
UID:10001070-1916728200-1916757000@tobaccoplains.org
SUMMARY:Reiki Clinic
DESCRIPTION:*All our clinics are by appointment only* \nReiki Clinic runs on Fridays from 8:30 am – 4:30 pm \nFor questions or concerns or to book an appointment at any clinic call Reception: 250-887-3461 or email Kaleen at Kaleen.fowler@tobaccoplains.org
URL:https://tobaccoplains.org/tpib-event/reiki-clinic/2030-09-27
CATEGORIES:Health Care Clinics
END:VEVENT
BEGIN:VEVENT
DTSTART;TZID=America/Edmonton:20301004T083000
DTEND;TZID=America/Edmonton:20301004T163000
DTSTAMP:20260424T083839
CREATED:20260130T211741Z
LAST-MODIFIED:20260130T214927Z
UID:10001071-1917333000-1917361800@tobaccoplains.org
SUMMARY:Reiki Clinic
DESCRIPTION:*All our clinics are by appointment only* \nReiki Clinic runs on Fridays from 8:30 am – 4:30 pm \nFor questions or concerns or to book an appointment at any clinic call Reception: 250-887-3461 or email Kaleen at Kaleen.fowler@tobaccoplains.org
URL:https://tobaccoplains.org/tpib-event/reiki-clinic/2030-10-04
CATEGORIES:Health Care Clinics
END:VEVENT
BEGIN:VEVENT
DTSTART;TZID=America/Edmonton:20301011T083000
DTEND;TZID=America/Edmonton:20301011T163000
DTSTAMP:20260424T083839
CREATED:20260130T211741Z
LAST-MODIFIED:20260130T214927Z
UID:10001072-1917937800-1917966600@tobaccoplains.org
SUMMARY:Reiki Clinic
DESCRIPTION:*All our clinics are by appointment only* \nReiki Clinic runs on Fridays from 8:30 am – 4:30 pm \nFor questions or concerns or to book an appointment at any clinic call Reception: 250-887-3461 or email Kaleen at Kaleen.fowler@tobaccoplains.org
URL:https://tobaccoplains.org/tpib-event/reiki-clinic/2030-10-11
CATEGORIES:Health Care Clinics
END:VEVENT
BEGIN:VEVENT
DTSTART;TZID=America/Edmonton:20301018T083000
DTEND;TZID=America/Edmonton:20301018T163000
DTSTAMP:20260424T083839
CREATED:20260130T211741Z
LAST-MODIFIED:20260130T214927Z
UID:10001073-1918542600-1918571400@tobaccoplains.org
SUMMARY:Reiki Clinic
DESCRIPTION:*All our clinics are by appointment only* \nReiki Clinic runs on Fridays from 8:30 am – 4:30 pm \nFor questions or concerns or to book an appointment at any clinic call Reception: 250-887-3461 or email Kaleen at Kaleen.fowler@tobaccoplains.org
URL:https://tobaccoplains.org/tpib-event/reiki-clinic/2030-10-18
CATEGORIES:Health Care Clinics
END:VEVENT
BEGIN:VEVENT
DTSTART;TZID=America/Edmonton:20301025T083000
DTEND;TZID=America/Edmonton:20301025T163000
DTSTAMP:20260424T083839
CREATED:20260130T211741Z
LAST-MODIFIED:20260130T214927Z
UID:10001074-1919147400-1919176200@tobaccoplains.org
SUMMARY:Reiki Clinic
DESCRIPTION:*All our clinics are by appointment only* \nReiki Clinic runs on Fridays from 8:30 am – 4:30 pm \nFor questions or concerns or to book an appointment at any clinic call Reception: 250-887-3461 or email Kaleen at Kaleen.fowler@tobaccoplains.org
URL:https://tobaccoplains.org/tpib-event/reiki-clinic/2030-10-25
CATEGORIES:Health Care Clinics
END:VEVENT
BEGIN:VEVENT
DTSTART;TZID=America/Edmonton:20301101T083000
DTEND;TZID=America/Edmonton:20301101T163000
DTSTAMP:20260424T083839
CREATED:20260130T211741Z
LAST-MODIFIED:20260130T214927Z
UID:10001075-1919752200-1919781000@tobaccoplains.org
SUMMARY:Reiki Clinic
DESCRIPTION:*All our clinics are by appointment only* \nReiki Clinic runs on Fridays from 8:30 am – 4:30 pm \nFor questions or concerns or to book an appointment at any clinic call Reception: 250-887-3461 or email Kaleen at Kaleen.fowler@tobaccoplains.org
URL:https://tobaccoplains.org/tpib-event/reiki-clinic/2030-11-01
CATEGORIES:Health Care Clinics
END:VEVENT
BEGIN:VEVENT
DTSTART;TZID=America/Edmonton:20301108T083000
DTEND;TZID=America/Edmonton:20301108T163000
DTSTAMP:20260424T083839
CREATED:20260130T211741Z
LAST-MODIFIED:20260130T214927Z
UID:10001076-1920357000-1920385800@tobaccoplains.org
SUMMARY:Reiki Clinic
DESCRIPTION:*All our clinics are by appointment only* \nReiki Clinic runs on Fridays from 8:30 am – 4:30 pm \nFor questions or concerns or to book an appointment at any clinic call Reception: 250-887-3461 or email Kaleen at Kaleen.fowler@tobaccoplains.org
URL:https://tobaccoplains.org/tpib-event/reiki-clinic/2030-11-08
CATEGORIES:Health Care Clinics
END:VEVENT
BEGIN:VEVENT
DTSTART;TZID=America/Edmonton:20301115T083000
DTEND;TZID=America/Edmonton:20301115T163000
DTSTAMP:20260424T083839
CREATED:20260130T211741Z
LAST-MODIFIED:20260130T214927Z
UID:10001077-1920961800-1920990600@tobaccoplains.org
SUMMARY:Reiki Clinic
DESCRIPTION:*All our clinics are by appointment only* \nReiki Clinic runs on Fridays from 8:30 am – 4:30 pm \nFor questions or concerns or to book an appointment at any clinic call Reception: 250-887-3461 or email Kaleen at Kaleen.fowler@tobaccoplains.org
URL:https://tobaccoplains.org/tpib-event/reiki-clinic/2030-11-15
CATEGORIES:Health Care Clinics
END:VEVENT
BEGIN:VEVENT
DTSTART;TZID=America/Edmonton:20301122T083000
DTEND;TZID=America/Edmonton:20301122T163000
DTSTAMP:20260424T083839
CREATED:20260130T211741Z
LAST-MODIFIED:20260130T214927Z
UID:10001078-1921566600-1921595400@tobaccoplains.org
SUMMARY:Reiki Clinic
DESCRIPTION:*All our clinics are by appointment only* \nReiki Clinic runs on Fridays from 8:30 am – 4:30 pm \nFor questions or concerns or to book an appointment at any clinic call Reception: 250-887-3461 or email Kaleen at Kaleen.fowler@tobaccoplains.org
URL:https://tobaccoplains.org/tpib-event/reiki-clinic/2030-11-22
CATEGORIES:Health Care Clinics
END:VEVENT
BEGIN:VEVENT
DTSTART;TZID=America/Edmonton:20301129T083000
DTEND;TZID=America/Edmonton:20301129T163000
DTSTAMP:20260424T083839
CREATED:20260130T211741Z
LAST-MODIFIED:20260130T214927Z
UID:10001079-1922171400-1922200200@tobaccoplains.org
SUMMARY:Reiki Clinic
DESCRIPTION:*All our clinics are by appointment only* \nReiki Clinic runs on Fridays from 8:30 am – 4:30 pm \nFor questions or concerns or to book an appointment at any clinic call Reception: 250-887-3461 or email Kaleen at Kaleen.fowler@tobaccoplains.org
URL:https://tobaccoplains.org/tpib-event/reiki-clinic/2030-11-29
CATEGORIES:Health Care Clinics
END:VEVENT
BEGIN:VEVENT
DTSTART;TZID=America/Edmonton:20301206T083000
DTEND;TZID=America/Edmonton:20301206T163000
DTSTAMP:20260424T083839
CREATED:20260130T211741Z
LAST-MODIFIED:20260130T214927Z
UID:10001080-1922776200-1922805000@tobaccoplains.org
SUMMARY:Reiki Clinic
DESCRIPTION:*All our clinics are by appointment only* \nReiki Clinic runs on Fridays from 8:30 am – 4:30 pm \nFor questions or concerns or to book an appointment at any clinic call Reception: 250-887-3461 or email Kaleen at Kaleen.fowler@tobaccoplains.org
URL:https://tobaccoplains.org/tpib-event/reiki-clinic/2030-12-06
CATEGORIES:Health Care Clinics
END:VEVENT
BEGIN:VEVENT
DTSTART;TZID=America/Edmonton:20301213T083000
DTEND;TZID=America/Edmonton:20301213T163000
DTSTAMP:20260424T083839
CREATED:20260130T211741Z
LAST-MODIFIED:20260130T214927Z
UID:10001081-1923381000-1923409800@tobaccoplains.org
SUMMARY:Reiki Clinic
DESCRIPTION:*All our clinics are by appointment only* \nReiki Clinic runs on Fridays from 8:30 am – 4:30 pm \nFor questions or concerns or to book an appointment at any clinic call Reception: 250-887-3461 or email Kaleen at Kaleen.fowler@tobaccoplains.org
URL:https://tobaccoplains.org/tpib-event/reiki-clinic/2030-12-13
CATEGORIES:Health Care Clinics
END:VEVENT
BEGIN:VEVENT
DTSTART;TZID=America/Edmonton:20301220T083000
DTEND;TZID=America/Edmonton:20301220T163000
DTSTAMP:20260424T083839
CREATED:20260130T211741Z
LAST-MODIFIED:20260130T214927Z
UID:10001082-1923985800-1924014600@tobaccoplains.org
SUMMARY:Reiki Clinic
DESCRIPTION:*All our clinics are by appointment only* \nReiki Clinic runs on Fridays from 8:30 am – 4:30 pm \nFor questions or concerns or to book an appointment at any clinic call Reception: 250-887-3461 or email Kaleen at Kaleen.fowler@tobaccoplains.org
URL:https://tobaccoplains.org/tpib-event/reiki-clinic/2030-12-20
CATEGORIES:Health Care Clinics
END:VEVENT
BEGIN:VEVENT
DTSTART;TZID=America/Edmonton:20301227T083000
DTEND;TZID=America/Edmonton:20301227T163000
DTSTAMP:20260424T083839
CREATED:20260130T211741Z
LAST-MODIFIED:20260130T214927Z
UID:10001083-1924590600-1924619400@tobaccoplains.org
SUMMARY:Reiki Clinic
DESCRIPTION:*All our clinics are by appointment only* \nReiki Clinic runs on Fridays from 8:30 am – 4:30 pm \nFor questions or concerns or to book an appointment at any clinic call Reception: 250-887-3461 or email Kaleen at Kaleen.fowler@tobaccoplains.org
URL:https://tobaccoplains.org/tpib-event/reiki-clinic/2030-12-27
CATEGORIES:Health Care Clinics
END:VEVENT
BEGIN:VEVENT
DTSTART;TZID=America/Edmonton:20310103T083000
DTEND;TZID=America/Edmonton:20310103T163000
DTSTAMP:20260424T083839
CREATED:20260130T211741Z
LAST-MODIFIED:20260130T214927Z
UID:10001084-1925195400-1925224200@tobaccoplains.org
SUMMARY:Reiki Clinic
DESCRIPTION:*All our clinics are by appointment only* \nReiki Clinic runs on Fridays from 8:30 am – 4:30 pm \nFor questions or concerns or to book an appointment at any clinic call Reception: 250-887-3461 or email Kaleen at Kaleen.fowler@tobaccoplains.org
URL:https://tobaccoplains.org/tpib-event/reiki-clinic/2031-01-03
CATEGORIES:Health Care Clinics
END:VEVENT
END:VCALENDAR