BEGIN:VCALENDAR
VERSION:2.0
PRODID:-//Yaq̓it ʔa·knuqⱡi’it First Nation - ECPv6.15.7//NONSGML v1.0//EN
CALSCALE:GREGORIAN
METHOD:PUBLISH
X-WR-CALNAME:Yaq̓it ʔa·knuqⱡi’it First Nation
X-ORIGINAL-URL:https://tobaccoplains.org
X-WR-CALDESC:Events for Yaq̓it ʔa·knuqⱡi’it First Nation
REFRESH-INTERVAL;VALUE=DURATION:PT1H
X-Robots-Tag:noindex
X-PUBLISHED-TTL:PT1H
BEGIN:VTIMEZONE
TZID:America/Edmonton
BEGIN:DAYLIGHT
TZOFFSETFROM:-0700
TZOFFSETTO:-0600
TZNAME:MDT
DTSTART:20280312T090000
END:DAYLIGHT
BEGIN:STANDARD
TZOFFSETFROM:-0600
TZOFFSETTO:-0700
TZNAME:MST
DTSTART:20281105T080000
END:STANDARD
BEGIN:DAYLIGHT
TZOFFSETFROM:-0700
TZOFFSETTO:-0600
TZNAME:MDT
DTSTART:20290311T090000
END:DAYLIGHT
BEGIN:STANDARD
TZOFFSETFROM:-0600
TZOFFSETTO:-0700
TZNAME:MST
DTSTART:20291104T080000
END:STANDARD
BEGIN:DAYLIGHT
TZOFFSETFROM:-0700
TZOFFSETTO:-0600
TZNAME:MDT
DTSTART:20300310T090000
END:DAYLIGHT
BEGIN:STANDARD
TZOFFSETFROM:-0600
TZOFFSETTO:-0700
TZNAME:MST
DTSTART:20301103T080000
END:STANDARD
BEGIN:DAYLIGHT
TZOFFSETFROM:-0700
TZOFFSETTO:-0600
TZNAME:MDT
DTSTART:20310309T090000
END:DAYLIGHT
BEGIN:STANDARD
TZOFFSETFROM:-0600
TZOFFSETTO:-0700
TZNAME:MST
DTSTART:20311102T080000
END:STANDARD
END:VTIMEZONE
BEGIN:VEVENT
DTSTART;TZID=America/Edmonton:20291228T083000
DTEND;TZID=America/Edmonton:20291228T163000
DTSTAMP:20260424T050449
CREATED:20260130T211741Z
LAST-MODIFIED:20260130T214927Z
UID:10001031-1893141000-1893169800@tobaccoplains.org
SUMMARY:Reiki Clinic
DESCRIPTION:*All our clinics are by appointment only* \nReiki Clinic runs on Fridays from 8:30 am – 4:30 pm \nFor questions or concerns or to book an appointment at any clinic call Reception: 250-887-3461 or email Kaleen at Kaleen.fowler@tobaccoplains.org
URL:https://tobaccoplains.org/tpib-event/reiki-clinic/2029-12-28
CATEGORIES:Health Care Clinics
END:VEVENT
BEGIN:VEVENT
DTSTART;TZID=America/Edmonton:20300104T083000
DTEND;TZID=America/Edmonton:20300104T163000
DTSTAMP:20260424T050449
CREATED:20260130T211741Z
LAST-MODIFIED:20260130T214927Z
UID:10001032-1893745800-1893774600@tobaccoplains.org
SUMMARY:Reiki Clinic
DESCRIPTION:*All our clinics are by appointment only* \nReiki Clinic runs on Fridays from 8:30 am – 4:30 pm \nFor questions or concerns or to book an appointment at any clinic call Reception: 250-887-3461 or email Kaleen at Kaleen.fowler@tobaccoplains.org
URL:https://tobaccoplains.org/tpib-event/reiki-clinic/2030-01-04
CATEGORIES:Health Care Clinics
END:VEVENT
BEGIN:VEVENT
DTSTART;TZID=America/Edmonton:20300111T083000
DTEND;TZID=America/Edmonton:20300111T163000
DTSTAMP:20260424T050449
CREATED:20260130T211741Z
LAST-MODIFIED:20260130T214927Z
UID:10001033-1894350600-1894379400@tobaccoplains.org
SUMMARY:Reiki Clinic
DESCRIPTION:*All our clinics are by appointment only* \nReiki Clinic runs on Fridays from 8:30 am – 4:30 pm \nFor questions or concerns or to book an appointment at any clinic call Reception: 250-887-3461 or email Kaleen at Kaleen.fowler@tobaccoplains.org
URL:https://tobaccoplains.org/tpib-event/reiki-clinic/2030-01-11
CATEGORIES:Health Care Clinics
END:VEVENT
BEGIN:VEVENT
DTSTART;TZID=America/Edmonton:20300118T083000
DTEND;TZID=America/Edmonton:20300118T163000
DTSTAMP:20260424T050449
CREATED:20260130T211741Z
LAST-MODIFIED:20260130T214927Z
UID:10001034-1894955400-1894984200@tobaccoplains.org
SUMMARY:Reiki Clinic
DESCRIPTION:*All our clinics are by appointment only* \nReiki Clinic runs on Fridays from 8:30 am – 4:30 pm \nFor questions or concerns or to book an appointment at any clinic call Reception: 250-887-3461 or email Kaleen at Kaleen.fowler@tobaccoplains.org
URL:https://tobaccoplains.org/tpib-event/reiki-clinic/2030-01-18
CATEGORIES:Health Care Clinics
END:VEVENT
BEGIN:VEVENT
DTSTART;TZID=America/Edmonton:20300125T083000
DTEND;TZID=America/Edmonton:20300125T163000
DTSTAMP:20260424T050449
CREATED:20260130T211741Z
LAST-MODIFIED:20260130T214927Z
UID:10001035-1895560200-1895589000@tobaccoplains.org
SUMMARY:Reiki Clinic
DESCRIPTION:*All our clinics are by appointment only* \nReiki Clinic runs on Fridays from 8:30 am – 4:30 pm \nFor questions or concerns or to book an appointment at any clinic call Reception: 250-887-3461 or email Kaleen at Kaleen.fowler@tobaccoplains.org
URL:https://tobaccoplains.org/tpib-event/reiki-clinic/2030-01-25
CATEGORIES:Health Care Clinics
END:VEVENT
BEGIN:VEVENT
DTSTART;TZID=America/Edmonton:20300201T083000
DTEND;TZID=America/Edmonton:20300201T163000
DTSTAMP:20260424T050449
CREATED:20260130T211741Z
LAST-MODIFIED:20260130T214927Z
UID:10001036-1896165000-1896193800@tobaccoplains.org
SUMMARY:Reiki Clinic
DESCRIPTION:*All our clinics are by appointment only* \nReiki Clinic runs on Fridays from 8:30 am – 4:30 pm \nFor questions or concerns or to book an appointment at any clinic call Reception: 250-887-3461 or email Kaleen at Kaleen.fowler@tobaccoplains.org
URL:https://tobaccoplains.org/tpib-event/reiki-clinic/2030-02-01
CATEGORIES:Health Care Clinics
END:VEVENT
BEGIN:VEVENT
DTSTART;TZID=America/Edmonton:20300208T083000
DTEND;TZID=America/Edmonton:20300208T163000
DTSTAMP:20260424T050449
CREATED:20260130T211741Z
LAST-MODIFIED:20260130T214927Z
UID:10001037-1896769800-1896798600@tobaccoplains.org
SUMMARY:Reiki Clinic
DESCRIPTION:*All our clinics are by appointment only* \nReiki Clinic runs on Fridays from 8:30 am – 4:30 pm \nFor questions or concerns or to book an appointment at any clinic call Reception: 250-887-3461 or email Kaleen at Kaleen.fowler@tobaccoplains.org
URL:https://tobaccoplains.org/tpib-event/reiki-clinic/2030-02-08
CATEGORIES:Health Care Clinics
END:VEVENT
BEGIN:VEVENT
DTSTART;TZID=America/Edmonton:20300215T083000
DTEND;TZID=America/Edmonton:20300215T163000
DTSTAMP:20260424T050449
CREATED:20260130T211741Z
LAST-MODIFIED:20260130T214927Z
UID:10001038-1897374600-1897403400@tobaccoplains.org
SUMMARY:Reiki Clinic
DESCRIPTION:*All our clinics are by appointment only* \nReiki Clinic runs on Fridays from 8:30 am – 4:30 pm \nFor questions or concerns or to book an appointment at any clinic call Reception: 250-887-3461 or email Kaleen at Kaleen.fowler@tobaccoplains.org
URL:https://tobaccoplains.org/tpib-event/reiki-clinic/2030-02-15
CATEGORIES:Health Care Clinics
END:VEVENT
BEGIN:VEVENT
DTSTART;TZID=America/Edmonton:20300222T083000
DTEND;TZID=America/Edmonton:20300222T163000
DTSTAMP:20260424T050449
CREATED:20260130T211741Z
LAST-MODIFIED:20260130T214927Z
UID:10001039-1897979400-1898008200@tobaccoplains.org
SUMMARY:Reiki Clinic
DESCRIPTION:*All our clinics are by appointment only* \nReiki Clinic runs on Fridays from 8:30 am – 4:30 pm \nFor questions or concerns or to book an appointment at any clinic call Reception: 250-887-3461 or email Kaleen at Kaleen.fowler@tobaccoplains.org
URL:https://tobaccoplains.org/tpib-event/reiki-clinic/2030-02-22
CATEGORIES:Health Care Clinics
END:VEVENT
BEGIN:VEVENT
DTSTART;TZID=America/Edmonton:20300301T083000
DTEND;TZID=America/Edmonton:20300301T163000
DTSTAMP:20260424T050449
CREATED:20260130T211741Z
LAST-MODIFIED:20260130T214927Z
UID:10001040-1898584200-1898613000@tobaccoplains.org
SUMMARY:Reiki Clinic
DESCRIPTION:*All our clinics are by appointment only* \nReiki Clinic runs on Fridays from 8:30 am – 4:30 pm \nFor questions or concerns or to book an appointment at any clinic call Reception: 250-887-3461 or email Kaleen at Kaleen.fowler@tobaccoplains.org
URL:https://tobaccoplains.org/tpib-event/reiki-clinic/2030-03-01
CATEGORIES:Health Care Clinics
END:VEVENT
BEGIN:VEVENT
DTSTART;TZID=America/Edmonton:20300308T083000
DTEND;TZID=America/Edmonton:20300308T163000
DTSTAMP:20260424T050449
CREATED:20260130T211741Z
LAST-MODIFIED:20260130T214927Z
UID:10001041-1899189000-1899217800@tobaccoplains.org
SUMMARY:Reiki Clinic
DESCRIPTION:*All our clinics are by appointment only* \nReiki Clinic runs on Fridays from 8:30 am – 4:30 pm \nFor questions or concerns or to book an appointment at any clinic call Reception: 250-887-3461 or email Kaleen at Kaleen.fowler@tobaccoplains.org
URL:https://tobaccoplains.org/tpib-event/reiki-clinic/2030-03-08
CATEGORIES:Health Care Clinics
END:VEVENT
BEGIN:VEVENT
DTSTART;TZID=America/Edmonton:20300315T083000
DTEND;TZID=America/Edmonton:20300315T163000
DTSTAMP:20260424T050449
CREATED:20260130T211741Z
LAST-MODIFIED:20260130T214927Z
UID:10001042-1899793800-1899822600@tobaccoplains.org
SUMMARY:Reiki Clinic
DESCRIPTION:*All our clinics are by appointment only* \nReiki Clinic runs on Fridays from 8:30 am – 4:30 pm \nFor questions or concerns or to book an appointment at any clinic call Reception: 250-887-3461 or email Kaleen at Kaleen.fowler@tobaccoplains.org
URL:https://tobaccoplains.org/tpib-event/reiki-clinic/2030-03-15
CATEGORIES:Health Care Clinics
END:VEVENT
BEGIN:VEVENT
DTSTART;TZID=America/Edmonton:20300322T083000
DTEND;TZID=America/Edmonton:20300322T163000
DTSTAMP:20260424T050449
CREATED:20260130T211741Z
LAST-MODIFIED:20260130T214927Z
UID:10001043-1900398600-1900427400@tobaccoplains.org
SUMMARY:Reiki Clinic
DESCRIPTION:*All our clinics are by appointment only* \nReiki Clinic runs on Fridays from 8:30 am – 4:30 pm \nFor questions or concerns or to book an appointment at any clinic call Reception: 250-887-3461 or email Kaleen at Kaleen.fowler@tobaccoplains.org
URL:https://tobaccoplains.org/tpib-event/reiki-clinic/2030-03-22
CATEGORIES:Health Care Clinics
END:VEVENT
BEGIN:VEVENT
DTSTART;TZID=America/Edmonton:20300329T083000
DTEND;TZID=America/Edmonton:20300329T163000
DTSTAMP:20260424T050449
CREATED:20260130T211741Z
LAST-MODIFIED:20260130T214927Z
UID:10001044-1901003400-1901032200@tobaccoplains.org
SUMMARY:Reiki Clinic
DESCRIPTION:*All our clinics are by appointment only* \nReiki Clinic runs on Fridays from 8:30 am – 4:30 pm \nFor questions or concerns or to book an appointment at any clinic call Reception: 250-887-3461 or email Kaleen at Kaleen.fowler@tobaccoplains.org
URL:https://tobaccoplains.org/tpib-event/reiki-clinic/2030-03-29
CATEGORIES:Health Care Clinics
END:VEVENT
BEGIN:VEVENT
DTSTART;TZID=America/Edmonton:20300405T083000
DTEND;TZID=America/Edmonton:20300405T163000
DTSTAMP:20260424T050449
CREATED:20260130T211741Z
LAST-MODIFIED:20260130T214927Z
UID:10001045-1901608200-1901637000@tobaccoplains.org
SUMMARY:Reiki Clinic
DESCRIPTION:*All our clinics are by appointment only* \nReiki Clinic runs on Fridays from 8:30 am – 4:30 pm \nFor questions or concerns or to book an appointment at any clinic call Reception: 250-887-3461 or email Kaleen at Kaleen.fowler@tobaccoplains.org
URL:https://tobaccoplains.org/tpib-event/reiki-clinic/2030-04-05
CATEGORIES:Health Care Clinics
END:VEVENT
BEGIN:VEVENT
DTSTART;TZID=America/Edmonton:20300412T083000
DTEND;TZID=America/Edmonton:20300412T163000
DTSTAMP:20260424T050449
CREATED:20260130T211741Z
LAST-MODIFIED:20260130T214927Z
UID:10001046-1902213000-1902241800@tobaccoplains.org
SUMMARY:Reiki Clinic
DESCRIPTION:*All our clinics are by appointment only* \nReiki Clinic runs on Fridays from 8:30 am – 4:30 pm \nFor questions or concerns or to book an appointment at any clinic call Reception: 250-887-3461 or email Kaleen at Kaleen.fowler@tobaccoplains.org
URL:https://tobaccoplains.org/tpib-event/reiki-clinic/2030-04-12
CATEGORIES:Health Care Clinics
END:VEVENT
BEGIN:VEVENT
DTSTART;TZID=America/Edmonton:20300419T083000
DTEND;TZID=America/Edmonton:20300419T163000
DTSTAMP:20260424T050449
CREATED:20260130T211741Z
LAST-MODIFIED:20260130T214927Z
UID:10001047-1902817800-1902846600@tobaccoplains.org
SUMMARY:Reiki Clinic
DESCRIPTION:*All our clinics are by appointment only* \nReiki Clinic runs on Fridays from 8:30 am – 4:30 pm \nFor questions or concerns or to book an appointment at any clinic call Reception: 250-887-3461 or email Kaleen at Kaleen.fowler@tobaccoplains.org
URL:https://tobaccoplains.org/tpib-event/reiki-clinic/2030-04-19
CATEGORIES:Health Care Clinics
END:VEVENT
BEGIN:VEVENT
DTSTART;TZID=America/Edmonton:20300426T083000
DTEND;TZID=America/Edmonton:20300426T163000
DTSTAMP:20260424T050449
CREATED:20260130T211741Z
LAST-MODIFIED:20260130T214927Z
UID:10001048-1903422600-1903451400@tobaccoplains.org
SUMMARY:Reiki Clinic
DESCRIPTION:*All our clinics are by appointment only* \nReiki Clinic runs on Fridays from 8:30 am – 4:30 pm \nFor questions or concerns or to book an appointment at any clinic call Reception: 250-887-3461 or email Kaleen at Kaleen.fowler@tobaccoplains.org
URL:https://tobaccoplains.org/tpib-event/reiki-clinic/2030-04-26
CATEGORIES:Health Care Clinics
END:VEVENT
BEGIN:VEVENT
DTSTART;TZID=America/Edmonton:20300503T083000
DTEND;TZID=America/Edmonton:20300503T163000
DTSTAMP:20260424T050449
CREATED:20260130T211741Z
LAST-MODIFIED:20260130T214927Z
UID:10001049-1904027400-1904056200@tobaccoplains.org
SUMMARY:Reiki Clinic
DESCRIPTION:*All our clinics are by appointment only* \nReiki Clinic runs on Fridays from 8:30 am – 4:30 pm \nFor questions or concerns or to book an appointment at any clinic call Reception: 250-887-3461 or email Kaleen at Kaleen.fowler@tobaccoplains.org
URL:https://tobaccoplains.org/tpib-event/reiki-clinic/2030-05-03
CATEGORIES:Health Care Clinics
END:VEVENT
BEGIN:VEVENT
DTSTART;TZID=America/Edmonton:20300510T083000
DTEND;TZID=America/Edmonton:20300510T163000
DTSTAMP:20260424T050449
CREATED:20260130T211741Z
LAST-MODIFIED:20260130T214927Z
UID:10001050-1904632200-1904661000@tobaccoplains.org
SUMMARY:Reiki Clinic
DESCRIPTION:*All our clinics are by appointment only* \nReiki Clinic runs on Fridays from 8:30 am – 4:30 pm \nFor questions or concerns or to book an appointment at any clinic call Reception: 250-887-3461 or email Kaleen at Kaleen.fowler@tobaccoplains.org
URL:https://tobaccoplains.org/tpib-event/reiki-clinic/2030-05-10
CATEGORIES:Health Care Clinics
END:VEVENT
BEGIN:VEVENT
DTSTART;TZID=America/Edmonton:20300517T083000
DTEND;TZID=America/Edmonton:20300517T163000
DTSTAMP:20260424T050449
CREATED:20260130T211741Z
LAST-MODIFIED:20260130T214927Z
UID:10001051-1905237000-1905265800@tobaccoplains.org
SUMMARY:Reiki Clinic
DESCRIPTION:*All our clinics are by appointment only* \nReiki Clinic runs on Fridays from 8:30 am – 4:30 pm \nFor questions or concerns or to book an appointment at any clinic call Reception: 250-887-3461 or email Kaleen at Kaleen.fowler@tobaccoplains.org
URL:https://tobaccoplains.org/tpib-event/reiki-clinic/2030-05-17
CATEGORIES:Health Care Clinics
END:VEVENT
BEGIN:VEVENT
DTSTART;TZID=America/Edmonton:20300524T083000
DTEND;TZID=America/Edmonton:20300524T163000
DTSTAMP:20260424T050449
CREATED:20260130T211741Z
LAST-MODIFIED:20260130T214927Z
UID:10001052-1905841800-1905870600@tobaccoplains.org
SUMMARY:Reiki Clinic
DESCRIPTION:*All our clinics are by appointment only* \nReiki Clinic runs on Fridays from 8:30 am – 4:30 pm \nFor questions or concerns or to book an appointment at any clinic call Reception: 250-887-3461 or email Kaleen at Kaleen.fowler@tobaccoplains.org
URL:https://tobaccoplains.org/tpib-event/reiki-clinic/2030-05-24
CATEGORIES:Health Care Clinics
END:VEVENT
BEGIN:VEVENT
DTSTART;TZID=America/Edmonton:20300531T083000
DTEND;TZID=America/Edmonton:20300531T163000
DTSTAMP:20260424T050449
CREATED:20260130T211741Z
LAST-MODIFIED:20260130T214927Z
UID:10001053-1906446600-1906475400@tobaccoplains.org
SUMMARY:Reiki Clinic
DESCRIPTION:*All our clinics are by appointment only* \nReiki Clinic runs on Fridays from 8:30 am – 4:30 pm \nFor questions or concerns or to book an appointment at any clinic call Reception: 250-887-3461 or email Kaleen at Kaleen.fowler@tobaccoplains.org
URL:https://tobaccoplains.org/tpib-event/reiki-clinic/2030-05-31
CATEGORIES:Health Care Clinics
END:VEVENT
BEGIN:VEVENT
DTSTART;TZID=America/Edmonton:20300607T083000
DTEND;TZID=America/Edmonton:20300607T163000
DTSTAMP:20260424T050449
CREATED:20260130T211741Z
LAST-MODIFIED:20260130T214927Z
UID:10001054-1907051400-1907080200@tobaccoplains.org
SUMMARY:Reiki Clinic
DESCRIPTION:*All our clinics are by appointment only* \nReiki Clinic runs on Fridays from 8:30 am – 4:30 pm \nFor questions or concerns or to book an appointment at any clinic call Reception: 250-887-3461 or email Kaleen at Kaleen.fowler@tobaccoplains.org
URL:https://tobaccoplains.org/tpib-event/reiki-clinic/2030-06-07
CATEGORIES:Health Care Clinics
END:VEVENT
BEGIN:VEVENT
DTSTART;TZID=America/Edmonton:20300614T083000
DTEND;TZID=America/Edmonton:20300614T163000
DTSTAMP:20260424T050449
CREATED:20260130T211741Z
LAST-MODIFIED:20260130T214927Z
UID:10001055-1907656200-1907685000@tobaccoplains.org
SUMMARY:Reiki Clinic
DESCRIPTION:*All our clinics are by appointment only* \nReiki Clinic runs on Fridays from 8:30 am – 4:30 pm \nFor questions or concerns or to book an appointment at any clinic call Reception: 250-887-3461 or email Kaleen at Kaleen.fowler@tobaccoplains.org
URL:https://tobaccoplains.org/tpib-event/reiki-clinic/2030-06-14
CATEGORIES:Health Care Clinics
END:VEVENT
BEGIN:VEVENT
DTSTART;TZID=America/Edmonton:20300621T083000
DTEND;TZID=America/Edmonton:20300621T163000
DTSTAMP:20260424T050449
CREATED:20260130T211741Z
LAST-MODIFIED:20260130T214927Z
UID:10001056-1908261000-1908289800@tobaccoplains.org
SUMMARY:Reiki Clinic
DESCRIPTION:*All our clinics are by appointment only* \nReiki Clinic runs on Fridays from 8:30 am – 4:30 pm \nFor questions or concerns or to book an appointment at any clinic call Reception: 250-887-3461 or email Kaleen at Kaleen.fowler@tobaccoplains.org
URL:https://tobaccoplains.org/tpib-event/reiki-clinic/2030-06-21
CATEGORIES:Health Care Clinics
END:VEVENT
BEGIN:VEVENT
DTSTART;TZID=America/Edmonton:20300628T083000
DTEND;TZID=America/Edmonton:20300628T163000
DTSTAMP:20260424T050449
CREATED:20260130T211741Z
LAST-MODIFIED:20260130T214927Z
UID:10001057-1908865800-1908894600@tobaccoplains.org
SUMMARY:Reiki Clinic
DESCRIPTION:*All our clinics are by appointment only* \nReiki Clinic runs on Fridays from 8:30 am – 4:30 pm \nFor questions or concerns or to book an appointment at any clinic call Reception: 250-887-3461 or email Kaleen at Kaleen.fowler@tobaccoplains.org
URL:https://tobaccoplains.org/tpib-event/reiki-clinic/2030-06-28
CATEGORIES:Health Care Clinics
END:VEVENT
BEGIN:VEVENT
DTSTART;TZID=America/Edmonton:20300705T083000
DTEND;TZID=America/Edmonton:20300705T163000
DTSTAMP:20260424T050449
CREATED:20260130T211741Z
LAST-MODIFIED:20260130T214927Z
UID:10001058-1909470600-1909499400@tobaccoplains.org
SUMMARY:Reiki Clinic
DESCRIPTION:*All our clinics are by appointment only* \nReiki Clinic runs on Fridays from 8:30 am – 4:30 pm \nFor questions or concerns or to book an appointment at any clinic call Reception: 250-887-3461 or email Kaleen at Kaleen.fowler@tobaccoplains.org
URL:https://tobaccoplains.org/tpib-event/reiki-clinic/2030-07-05
CATEGORIES:Health Care Clinics
END:VEVENT
BEGIN:VEVENT
DTSTART;TZID=America/Edmonton:20300712T083000
DTEND;TZID=America/Edmonton:20300712T163000
DTSTAMP:20260424T050449
CREATED:20260130T211741Z
LAST-MODIFIED:20260130T214927Z
UID:10001059-1910075400-1910104200@tobaccoplains.org
SUMMARY:Reiki Clinic
DESCRIPTION:*All our clinics are by appointment only* \nReiki Clinic runs on Fridays from 8:30 am – 4:30 pm \nFor questions or concerns or to book an appointment at any clinic call Reception: 250-887-3461 or email Kaleen at Kaleen.fowler@tobaccoplains.org
URL:https://tobaccoplains.org/tpib-event/reiki-clinic/2030-07-12
CATEGORIES:Health Care Clinics
END:VEVENT
BEGIN:VEVENT
DTSTART;TZID=America/Edmonton:20300719T083000
DTEND;TZID=America/Edmonton:20300719T163000
DTSTAMP:20260424T050449
CREATED:20260130T211741Z
LAST-MODIFIED:20260130T214927Z
UID:10001060-1910680200-1910709000@tobaccoplains.org
SUMMARY:Reiki Clinic
DESCRIPTION:*All our clinics are by appointment only* \nReiki Clinic runs on Fridays from 8:30 am – 4:30 pm \nFor questions or concerns or to book an appointment at any clinic call Reception: 250-887-3461 or email Kaleen at Kaleen.fowler@tobaccoplains.org
URL:https://tobaccoplains.org/tpib-event/reiki-clinic/2030-07-19
CATEGORIES:Health Care Clinics
END:VEVENT
END:VCALENDAR