BEGIN:VCALENDAR
VERSION:2.0
PRODID:-//Yaq̓it ʔa·knuqⱡi’it First Nation - ECPv6.15.7//NONSGML v1.0//EN
CALSCALE:GREGORIAN
METHOD:PUBLISH
X-ORIGINAL-URL:https://tobaccoplains.org
X-WR-CALDESC:Events for Yaq̓it ʔa·knuqⱡi’it First Nation
REFRESH-INTERVAL;VALUE=DURATION:PT1H
X-Robots-Tag:noindex
X-PUBLISHED-TTL:PT1H
BEGIN:VTIMEZONE
TZID:America/Edmonton
BEGIN:DAYLIGHT
TZOFFSETFROM:-0700
TZOFFSETTO:-0600
TZNAME:MDT
DTSTART:20280312T090000
END:DAYLIGHT
BEGIN:STANDARD
TZOFFSETFROM:-0600
TZOFFSETTO:-0700
TZNAME:MST
DTSTART:20281105T080000
END:STANDARD
BEGIN:DAYLIGHT
TZOFFSETFROM:-0700
TZOFFSETTO:-0600
TZNAME:MDT
DTSTART:20290311T090000
END:DAYLIGHT
BEGIN:STANDARD
TZOFFSETFROM:-0600
TZOFFSETTO:-0700
TZNAME:MST
DTSTART:20291104T080000
END:STANDARD
BEGIN:DAYLIGHT
TZOFFSETFROM:-0700
TZOFFSETTO:-0600
TZNAME:MDT
DTSTART:20300310T090000
END:DAYLIGHT
BEGIN:STANDARD
TZOFFSETFROM:-0600
TZOFFSETTO:-0700
TZNAME:MST
DTSTART:20301103T080000
END:STANDARD
BEGIN:DAYLIGHT
TZOFFSETFROM:-0700
TZOFFSETTO:-0600
TZNAME:MDT
DTSTART:20310309T090000
END:DAYLIGHT
BEGIN:STANDARD
TZOFFSETFROM:-0600
TZOFFSETTO:-0700
TZNAME:MST
DTSTART:20311102T080000
END:STANDARD
END:VTIMEZONE
BEGIN:VEVENT
DTSTART;TZID=America/Edmonton:20290713T083000
DTEND;TZID=America/Edmonton:20290713T163000
DTSTAMP:20260424T012546
CREATED:20260130T211741Z
LAST-MODIFIED:20260130T214927Z
UID:10001007-1878625800-1878654600@tobaccoplains.org
SUMMARY:Reiki Clinic
DESCRIPTION:*All our clinics are by appointment only* \nReiki Clinic runs on Fridays from 8:30 am – 4:30 pm \nFor questions or concerns or to book an appointment at any clinic call Reception: 250-887-3461 or email Kaleen at Kaleen.fowler@tobaccoplains.org
URL:https://tobaccoplains.org/tpib-event/reiki-clinic/2029-07-13
CATEGORIES:Health Care Clinics
END:VEVENT
BEGIN:VEVENT
DTSTART;TZID=America/Edmonton:20290720T083000
DTEND;TZID=America/Edmonton:20290720T163000
DTSTAMP:20260424T012546
CREATED:20260130T211741Z
LAST-MODIFIED:20260130T214927Z
UID:10001008-1879230600-1879259400@tobaccoplains.org
SUMMARY:Reiki Clinic
DESCRIPTION:*All our clinics are by appointment only* \nReiki Clinic runs on Fridays from 8:30 am – 4:30 pm \nFor questions or concerns or to book an appointment at any clinic call Reception: 250-887-3461 or email Kaleen at Kaleen.fowler@tobaccoplains.org
URL:https://tobaccoplains.org/tpib-event/reiki-clinic/2029-07-20
CATEGORIES:Health Care Clinics
END:VEVENT
BEGIN:VEVENT
DTSTART;TZID=America/Edmonton:20290727T083000
DTEND;TZID=America/Edmonton:20290727T163000
DTSTAMP:20260424T012546
CREATED:20260130T211741Z
LAST-MODIFIED:20260130T214927Z
UID:10001009-1879835400-1879864200@tobaccoplains.org
SUMMARY:Reiki Clinic
DESCRIPTION:*All our clinics are by appointment only* \nReiki Clinic runs on Fridays from 8:30 am – 4:30 pm \nFor questions or concerns or to book an appointment at any clinic call Reception: 250-887-3461 or email Kaleen at Kaleen.fowler@tobaccoplains.org
URL:https://tobaccoplains.org/tpib-event/reiki-clinic/2029-07-27
CATEGORIES:Health Care Clinics
END:VEVENT
BEGIN:VEVENT
DTSTART;TZID=America/Edmonton:20290803T083000
DTEND;TZID=America/Edmonton:20290803T163000
DTSTAMP:20260424T012546
CREATED:20260130T211741Z
LAST-MODIFIED:20260130T214927Z
UID:10001010-1880440200-1880469000@tobaccoplains.org
SUMMARY:Reiki Clinic
DESCRIPTION:*All our clinics are by appointment only* \nReiki Clinic runs on Fridays from 8:30 am – 4:30 pm \nFor questions or concerns or to book an appointment at any clinic call Reception: 250-887-3461 or email Kaleen at Kaleen.fowler@tobaccoplains.org
URL:https://tobaccoplains.org/tpib-event/reiki-clinic/2029-08-03
CATEGORIES:Health Care Clinics
END:VEVENT
BEGIN:VEVENT
DTSTART;TZID=America/Edmonton:20290810T083000
DTEND;TZID=America/Edmonton:20290810T163000
DTSTAMP:20260424T012546
CREATED:20260130T211741Z
LAST-MODIFIED:20260130T214927Z
UID:10001011-1881045000-1881073800@tobaccoplains.org
SUMMARY:Reiki Clinic
DESCRIPTION:*All our clinics are by appointment only* \nReiki Clinic runs on Fridays from 8:30 am – 4:30 pm \nFor questions or concerns or to book an appointment at any clinic call Reception: 250-887-3461 or email Kaleen at Kaleen.fowler@tobaccoplains.org
URL:https://tobaccoplains.org/tpib-event/reiki-clinic/2029-08-10
CATEGORIES:Health Care Clinics
END:VEVENT
BEGIN:VEVENT
DTSTART;TZID=America/Edmonton:20290817T083000
DTEND;TZID=America/Edmonton:20290817T163000
DTSTAMP:20260424T012546
CREATED:20260130T211741Z
LAST-MODIFIED:20260130T214927Z
UID:10001012-1881649800-1881678600@tobaccoplains.org
SUMMARY:Reiki Clinic
DESCRIPTION:*All our clinics are by appointment only* \nReiki Clinic runs on Fridays from 8:30 am – 4:30 pm \nFor questions or concerns or to book an appointment at any clinic call Reception: 250-887-3461 or email Kaleen at Kaleen.fowler@tobaccoplains.org
URL:https://tobaccoplains.org/tpib-event/reiki-clinic/2029-08-17
CATEGORIES:Health Care Clinics
END:VEVENT
BEGIN:VEVENT
DTSTART;TZID=America/Edmonton:20290824T083000
DTEND;TZID=America/Edmonton:20290824T163000
DTSTAMP:20260424T012546
CREATED:20260130T211741Z
LAST-MODIFIED:20260130T214927Z
UID:10001013-1882254600-1882283400@tobaccoplains.org
SUMMARY:Reiki Clinic
DESCRIPTION:*All our clinics are by appointment only* \nReiki Clinic runs on Fridays from 8:30 am – 4:30 pm \nFor questions or concerns or to book an appointment at any clinic call Reception: 250-887-3461 or email Kaleen at Kaleen.fowler@tobaccoplains.org
URL:https://tobaccoplains.org/tpib-event/reiki-clinic/2029-08-24
CATEGORIES:Health Care Clinics
END:VEVENT
BEGIN:VEVENT
DTSTART;TZID=America/Edmonton:20290831T083000
DTEND;TZID=America/Edmonton:20290831T163000
DTSTAMP:20260424T012546
CREATED:20260130T211741Z
LAST-MODIFIED:20260130T214927Z
UID:10001014-1882859400-1882888200@tobaccoplains.org
SUMMARY:Reiki Clinic
DESCRIPTION:*All our clinics are by appointment only* \nReiki Clinic runs on Fridays from 8:30 am – 4:30 pm \nFor questions or concerns or to book an appointment at any clinic call Reception: 250-887-3461 or email Kaleen at Kaleen.fowler@tobaccoplains.org
URL:https://tobaccoplains.org/tpib-event/reiki-clinic/2029-08-31
CATEGORIES:Health Care Clinics
END:VEVENT
BEGIN:VEVENT
DTSTART;TZID=America/Edmonton:20290907T083000
DTEND;TZID=America/Edmonton:20290907T163000
DTSTAMP:20260424T012546
CREATED:20260130T211741Z
LAST-MODIFIED:20260130T214927Z
UID:10001015-1883464200-1883493000@tobaccoplains.org
SUMMARY:Reiki Clinic
DESCRIPTION:*All our clinics are by appointment only* \nReiki Clinic runs on Fridays from 8:30 am – 4:30 pm \nFor questions or concerns or to book an appointment at any clinic call Reception: 250-887-3461 or email Kaleen at Kaleen.fowler@tobaccoplains.org
URL:https://tobaccoplains.org/tpib-event/reiki-clinic/2029-09-07
CATEGORIES:Health Care Clinics
END:VEVENT
BEGIN:VEVENT
DTSTART;TZID=America/Edmonton:20290914T083000
DTEND;TZID=America/Edmonton:20290914T163000
DTSTAMP:20260424T012546
CREATED:20260130T211741Z
LAST-MODIFIED:20260130T214927Z
UID:10001016-1884069000-1884097800@tobaccoplains.org
SUMMARY:Reiki Clinic
DESCRIPTION:*All our clinics are by appointment only* \nReiki Clinic runs on Fridays from 8:30 am – 4:30 pm \nFor questions or concerns or to book an appointment at any clinic call Reception: 250-887-3461 or email Kaleen at Kaleen.fowler@tobaccoplains.org
URL:https://tobaccoplains.org/tpib-event/reiki-clinic/2029-09-14
CATEGORIES:Health Care Clinics
END:VEVENT
BEGIN:VEVENT
DTSTART;TZID=America/Edmonton:20290921T083000
DTEND;TZID=America/Edmonton:20290921T163000
DTSTAMP:20260424T012546
CREATED:20260130T211741Z
LAST-MODIFIED:20260130T214927Z
UID:10001017-1884673800-1884702600@tobaccoplains.org
SUMMARY:Reiki Clinic
DESCRIPTION:*All our clinics are by appointment only* \nReiki Clinic runs on Fridays from 8:30 am – 4:30 pm \nFor questions or concerns or to book an appointment at any clinic call Reception: 250-887-3461 or email Kaleen at Kaleen.fowler@tobaccoplains.org
URL:https://tobaccoplains.org/tpib-event/reiki-clinic/2029-09-21
CATEGORIES:Health Care Clinics
END:VEVENT
BEGIN:VEVENT
DTSTART;TZID=America/Edmonton:20290928T083000
DTEND;TZID=America/Edmonton:20290928T163000
DTSTAMP:20260424T012546
CREATED:20260130T211741Z
LAST-MODIFIED:20260130T214927Z
UID:10001018-1885278600-1885307400@tobaccoplains.org
SUMMARY:Reiki Clinic
DESCRIPTION:*All our clinics are by appointment only* \nReiki Clinic runs on Fridays from 8:30 am – 4:30 pm \nFor questions or concerns or to book an appointment at any clinic call Reception: 250-887-3461 or email Kaleen at Kaleen.fowler@tobaccoplains.org
URL:https://tobaccoplains.org/tpib-event/reiki-clinic/2029-09-28
CATEGORIES:Health Care Clinics
END:VEVENT
BEGIN:VEVENT
DTSTART;TZID=America/Edmonton:20291005T083000
DTEND;TZID=America/Edmonton:20291005T163000
DTSTAMP:20260424T012546
CREATED:20260130T211741Z
LAST-MODIFIED:20260130T214927Z
UID:10001019-1885883400-1885912200@tobaccoplains.org
SUMMARY:Reiki Clinic
DESCRIPTION:*All our clinics are by appointment only* \nReiki Clinic runs on Fridays from 8:30 am – 4:30 pm \nFor questions or concerns or to book an appointment at any clinic call Reception: 250-887-3461 or email Kaleen at Kaleen.fowler@tobaccoplains.org
URL:https://tobaccoplains.org/tpib-event/reiki-clinic/2029-10-05
CATEGORIES:Health Care Clinics
END:VEVENT
BEGIN:VEVENT
DTSTART;TZID=America/Edmonton:20291012T083000
DTEND;TZID=America/Edmonton:20291012T163000
DTSTAMP:20260424T012546
CREATED:20260130T211741Z
LAST-MODIFIED:20260130T214927Z
UID:10001020-1886488200-1886517000@tobaccoplains.org
SUMMARY:Reiki Clinic
DESCRIPTION:*All our clinics are by appointment only* \nReiki Clinic runs on Fridays from 8:30 am – 4:30 pm \nFor questions or concerns or to book an appointment at any clinic call Reception: 250-887-3461 or email Kaleen at Kaleen.fowler@tobaccoplains.org
URL:https://tobaccoplains.org/tpib-event/reiki-clinic/2029-10-12
CATEGORIES:Health Care Clinics
END:VEVENT
BEGIN:VEVENT
DTSTART;TZID=America/Edmonton:20291019T083000
DTEND;TZID=America/Edmonton:20291019T163000
DTSTAMP:20260424T012546
CREATED:20260130T211741Z
LAST-MODIFIED:20260130T214927Z
UID:10001021-1887093000-1887121800@tobaccoplains.org
SUMMARY:Reiki Clinic
DESCRIPTION:*All our clinics are by appointment only* \nReiki Clinic runs on Fridays from 8:30 am – 4:30 pm \nFor questions or concerns or to book an appointment at any clinic call Reception: 250-887-3461 or email Kaleen at Kaleen.fowler@tobaccoplains.org
URL:https://tobaccoplains.org/tpib-event/reiki-clinic/2029-10-19
CATEGORIES:Health Care Clinics
END:VEVENT
BEGIN:VEVENT
DTSTART;TZID=America/Edmonton:20291026T083000
DTEND;TZID=America/Edmonton:20291026T163000
DTSTAMP:20260424T012546
CREATED:20260130T211741Z
LAST-MODIFIED:20260130T214927Z
UID:10001022-1887697800-1887726600@tobaccoplains.org
SUMMARY:Reiki Clinic
DESCRIPTION:*All our clinics are by appointment only* \nReiki Clinic runs on Fridays from 8:30 am – 4:30 pm \nFor questions or concerns or to book an appointment at any clinic call Reception: 250-887-3461 or email Kaleen at Kaleen.fowler@tobaccoplains.org
URL:https://tobaccoplains.org/tpib-event/reiki-clinic/2029-10-26
CATEGORIES:Health Care Clinics
END:VEVENT
BEGIN:VEVENT
DTSTART;TZID=America/Edmonton:20291102T083000
DTEND;TZID=America/Edmonton:20291102T163000
DTSTAMP:20260424T012546
CREATED:20260130T211741Z
LAST-MODIFIED:20260130T214927Z
UID:10001023-1888302600-1888331400@tobaccoplains.org
SUMMARY:Reiki Clinic
DESCRIPTION:*All our clinics are by appointment only* \nReiki Clinic runs on Fridays from 8:30 am – 4:30 pm \nFor questions or concerns or to book an appointment at any clinic call Reception: 250-887-3461 or email Kaleen at Kaleen.fowler@tobaccoplains.org
URL:https://tobaccoplains.org/tpib-event/reiki-clinic/2029-11-02
CATEGORIES:Health Care Clinics
END:VEVENT
BEGIN:VEVENT
DTSTART;TZID=America/Edmonton:20291109T083000
DTEND;TZID=America/Edmonton:20291109T163000
DTSTAMP:20260424T012546
CREATED:20260130T211741Z
LAST-MODIFIED:20260130T214927Z
UID:10001024-1888907400-1888936200@tobaccoplains.org
SUMMARY:Reiki Clinic
DESCRIPTION:*All our clinics are by appointment only* \nReiki Clinic runs on Fridays from 8:30 am – 4:30 pm \nFor questions or concerns or to book an appointment at any clinic call Reception: 250-887-3461 or email Kaleen at Kaleen.fowler@tobaccoplains.org
URL:https://tobaccoplains.org/tpib-event/reiki-clinic/2029-11-09
CATEGORIES:Health Care Clinics
END:VEVENT
BEGIN:VEVENT
DTSTART;TZID=America/Edmonton:20291116T083000
DTEND;TZID=America/Edmonton:20291116T163000
DTSTAMP:20260424T012546
CREATED:20260130T211741Z
LAST-MODIFIED:20260130T214927Z
UID:10001025-1889512200-1889541000@tobaccoplains.org
SUMMARY:Reiki Clinic
DESCRIPTION:*All our clinics are by appointment only* \nReiki Clinic runs on Fridays from 8:30 am – 4:30 pm \nFor questions or concerns or to book an appointment at any clinic call Reception: 250-887-3461 or email Kaleen at Kaleen.fowler@tobaccoplains.org
URL:https://tobaccoplains.org/tpib-event/reiki-clinic/2029-11-16
CATEGORIES:Health Care Clinics
END:VEVENT
BEGIN:VEVENT
DTSTART;TZID=America/Edmonton:20291123T083000
DTEND;TZID=America/Edmonton:20291123T163000
DTSTAMP:20260424T012546
CREATED:20260130T211741Z
LAST-MODIFIED:20260130T214927Z
UID:10001026-1890117000-1890145800@tobaccoplains.org
SUMMARY:Reiki Clinic
DESCRIPTION:*All our clinics are by appointment only* \nReiki Clinic runs on Fridays from 8:30 am – 4:30 pm \nFor questions or concerns or to book an appointment at any clinic call Reception: 250-887-3461 or email Kaleen at Kaleen.fowler@tobaccoplains.org
URL:https://tobaccoplains.org/tpib-event/reiki-clinic/2029-11-23
CATEGORIES:Health Care Clinics
END:VEVENT
BEGIN:VEVENT
DTSTART;TZID=America/Edmonton:20291130T083000
DTEND;TZID=America/Edmonton:20291130T163000
DTSTAMP:20260424T012546
CREATED:20260130T211741Z
LAST-MODIFIED:20260130T214927Z
UID:10001027-1890721800-1890750600@tobaccoplains.org
SUMMARY:Reiki Clinic
DESCRIPTION:*All our clinics are by appointment only* \nReiki Clinic runs on Fridays from 8:30 am – 4:30 pm \nFor questions or concerns or to book an appointment at any clinic call Reception: 250-887-3461 or email Kaleen at Kaleen.fowler@tobaccoplains.org
URL:https://tobaccoplains.org/tpib-event/reiki-clinic/2029-11-30
CATEGORIES:Health Care Clinics
END:VEVENT
BEGIN:VEVENT
DTSTART;TZID=America/Edmonton:20291207T083000
DTEND;TZID=America/Edmonton:20291207T163000
DTSTAMP:20260424T012546
CREATED:20260130T211741Z
LAST-MODIFIED:20260130T214927Z
UID:10001028-1891326600-1891355400@tobaccoplains.org
SUMMARY:Reiki Clinic
DESCRIPTION:*All our clinics are by appointment only* \nReiki Clinic runs on Fridays from 8:30 am – 4:30 pm \nFor questions or concerns or to book an appointment at any clinic call Reception: 250-887-3461 or email Kaleen at Kaleen.fowler@tobaccoplains.org
URL:https://tobaccoplains.org/tpib-event/reiki-clinic/2029-12-07
CATEGORIES:Health Care Clinics
END:VEVENT
BEGIN:VEVENT
DTSTART;TZID=America/Edmonton:20291214T083000
DTEND;TZID=America/Edmonton:20291214T163000
DTSTAMP:20260424T012546
CREATED:20260130T211741Z
LAST-MODIFIED:20260130T214927Z
UID:10001029-1891931400-1891960200@tobaccoplains.org
SUMMARY:Reiki Clinic
DESCRIPTION:*All our clinics are by appointment only* \nReiki Clinic runs on Fridays from 8:30 am – 4:30 pm \nFor questions or concerns or to book an appointment at any clinic call Reception: 250-887-3461 or email Kaleen at Kaleen.fowler@tobaccoplains.org
URL:https://tobaccoplains.org/tpib-event/reiki-clinic/2029-12-14
CATEGORIES:Health Care Clinics
END:VEVENT
BEGIN:VEVENT
DTSTART;TZID=America/Edmonton:20291221T083000
DTEND;TZID=America/Edmonton:20291221T163000
DTSTAMP:20260424T012546
CREATED:20260130T211741Z
LAST-MODIFIED:20260130T214927Z
UID:10001030-1892536200-1892565000@tobaccoplains.org
SUMMARY:Reiki Clinic
DESCRIPTION:*All our clinics are by appointment only* \nReiki Clinic runs on Fridays from 8:30 am – 4:30 pm \nFor questions or concerns or to book an appointment at any clinic call Reception: 250-887-3461 or email Kaleen at Kaleen.fowler@tobaccoplains.org
URL:https://tobaccoplains.org/tpib-event/reiki-clinic/2029-12-21
CATEGORIES:Health Care Clinics
END:VEVENT
BEGIN:VEVENT
DTSTART;TZID=America/Edmonton:20291228T083000
DTEND;TZID=America/Edmonton:20291228T163000
DTSTAMP:20260424T012546
CREATED:20260130T211741Z
LAST-MODIFIED:20260130T214927Z
UID:10001031-1893141000-1893169800@tobaccoplains.org
SUMMARY:Reiki Clinic
DESCRIPTION:*All our clinics are by appointment only* \nReiki Clinic runs on Fridays from 8:30 am – 4:30 pm \nFor questions or concerns or to book an appointment at any clinic call Reception: 250-887-3461 or email Kaleen at Kaleen.fowler@tobaccoplains.org
URL:https://tobaccoplains.org/tpib-event/reiki-clinic/2029-12-28
CATEGORIES:Health Care Clinics
END:VEVENT
BEGIN:VEVENT
DTSTART;TZID=America/Edmonton:20300104T083000
DTEND;TZID=America/Edmonton:20300104T163000
DTSTAMP:20260424T012546
CREATED:20260130T211741Z
LAST-MODIFIED:20260130T214927Z
UID:10001032-1893745800-1893774600@tobaccoplains.org
SUMMARY:Reiki Clinic
DESCRIPTION:*All our clinics are by appointment only* \nReiki Clinic runs on Fridays from 8:30 am – 4:30 pm \nFor questions or concerns or to book an appointment at any clinic call Reception: 250-887-3461 or email Kaleen at Kaleen.fowler@tobaccoplains.org
URL:https://tobaccoplains.org/tpib-event/reiki-clinic/2030-01-04
CATEGORIES:Health Care Clinics
END:VEVENT
BEGIN:VEVENT
DTSTART;TZID=America/Edmonton:20300111T083000
DTEND;TZID=America/Edmonton:20300111T163000
DTSTAMP:20260424T012546
CREATED:20260130T211741Z
LAST-MODIFIED:20260130T214927Z
UID:10001033-1894350600-1894379400@tobaccoplains.org
SUMMARY:Reiki Clinic
DESCRIPTION:*All our clinics are by appointment only* \nReiki Clinic runs on Fridays from 8:30 am – 4:30 pm \nFor questions or concerns or to book an appointment at any clinic call Reception: 250-887-3461 or email Kaleen at Kaleen.fowler@tobaccoplains.org
URL:https://tobaccoplains.org/tpib-event/reiki-clinic/2030-01-11
CATEGORIES:Health Care Clinics
END:VEVENT
BEGIN:VEVENT
DTSTART;TZID=America/Edmonton:20300118T083000
DTEND;TZID=America/Edmonton:20300118T163000
DTSTAMP:20260424T012546
CREATED:20260130T211741Z
LAST-MODIFIED:20260130T214927Z
UID:10001034-1894955400-1894984200@tobaccoplains.org
SUMMARY:Reiki Clinic
DESCRIPTION:*All our clinics are by appointment only* \nReiki Clinic runs on Fridays from 8:30 am – 4:30 pm \nFor questions or concerns or to book an appointment at any clinic call Reception: 250-887-3461 or email Kaleen at Kaleen.fowler@tobaccoplains.org
URL:https://tobaccoplains.org/tpib-event/reiki-clinic/2030-01-18
CATEGORIES:Health Care Clinics
END:VEVENT
BEGIN:VEVENT
DTSTART;TZID=America/Edmonton:20300125T083000
DTEND;TZID=America/Edmonton:20300125T163000
DTSTAMP:20260424T012546
CREATED:20260130T211741Z
LAST-MODIFIED:20260130T214927Z
UID:10001035-1895560200-1895589000@tobaccoplains.org
SUMMARY:Reiki Clinic
DESCRIPTION:*All our clinics are by appointment only* \nReiki Clinic runs on Fridays from 8:30 am – 4:30 pm \nFor questions or concerns or to book an appointment at any clinic call Reception: 250-887-3461 or email Kaleen at Kaleen.fowler@tobaccoplains.org
URL:https://tobaccoplains.org/tpib-event/reiki-clinic/2030-01-25
CATEGORIES:Health Care Clinics
END:VEVENT
BEGIN:VEVENT
DTSTART;TZID=America/Edmonton:20300201T083000
DTEND;TZID=America/Edmonton:20300201T163000
DTSTAMP:20260424T012546
CREATED:20260130T211741Z
LAST-MODIFIED:20260130T214927Z
UID:10001036-1896165000-1896193800@tobaccoplains.org
SUMMARY:Reiki Clinic
DESCRIPTION:*All our clinics are by appointment only* \nReiki Clinic runs on Fridays from 8:30 am – 4:30 pm \nFor questions or concerns or to book an appointment at any clinic call Reception: 250-887-3461 or email Kaleen at Kaleen.fowler@tobaccoplains.org
URL:https://tobaccoplains.org/tpib-event/reiki-clinic/2030-02-01
CATEGORIES:Health Care Clinics
END:VEVENT
END:VCALENDAR