BEGIN:VCALENDAR
VERSION:2.0
PRODID:-//Yaq̓it ʔa·knuqⱡi’it First Nation - ECPv6.15.7//NONSGML v1.0//EN
CALSCALE:GREGORIAN
METHOD:PUBLISH
X-WR-CALNAME:Yaq̓it ʔa·knuqⱡi’it First Nation
X-ORIGINAL-URL:https://tobaccoplains.org
X-WR-CALDESC:Events for Yaq̓it ʔa·knuqⱡi’it First Nation
REFRESH-INTERVAL;VALUE=DURATION:PT1H
X-Robots-Tag:noindex
X-PUBLISHED-TTL:PT1H
BEGIN:VTIMEZONE
TZID:America/Edmonton
BEGIN:DAYLIGHT
TZOFFSETFROM:-0700
TZOFFSETTO:-0600
TZNAME:MDT
DTSTART:20280312T090000
END:DAYLIGHT
BEGIN:STANDARD
TZOFFSETFROM:-0600
TZOFFSETTO:-0700
TZNAME:MST
DTSTART:20281105T080000
END:STANDARD
BEGIN:DAYLIGHT
TZOFFSETFROM:-0700
TZOFFSETTO:-0600
TZNAME:MDT
DTSTART:20290311T090000
END:DAYLIGHT
BEGIN:STANDARD
TZOFFSETFROM:-0600
TZOFFSETTO:-0700
TZNAME:MST
DTSTART:20291104T080000
END:STANDARD
BEGIN:DAYLIGHT
TZOFFSETFROM:-0700
TZOFFSETTO:-0600
TZNAME:MDT
DTSTART:20300310T090000
END:DAYLIGHT
BEGIN:STANDARD
TZOFFSETFROM:-0600
TZOFFSETTO:-0700
TZNAME:MST
DTSTART:20301103T080000
END:STANDARD
END:VTIMEZONE
BEGIN:VEVENT
DTSTART;TZID=America/Edmonton:20290126T083000
DTEND;TZID=America/Edmonton:20290126T163000
DTSTAMP:20260423T221559
CREATED:20260130T211741Z
LAST-MODIFIED:20260130T214927Z
UID:10000983-1864110600-1864139400@tobaccoplains.org
SUMMARY:Reiki Clinic
DESCRIPTION:*All our clinics are by appointment only* \nReiki Clinic runs on Fridays from 8:30 am – 4:30 pm \nFor questions or concerns or to book an appointment at any clinic call Reception: 250-887-3461 or email Kaleen at Kaleen.fowler@tobaccoplains.org
URL:https://tobaccoplains.org/tpib-event/reiki-clinic/2029-01-26
CATEGORIES:Health Care Clinics
END:VEVENT
BEGIN:VEVENT
DTSTART;TZID=America/Edmonton:20290202T083000
DTEND;TZID=America/Edmonton:20290202T163000
DTSTAMP:20260423T221559
CREATED:20260130T211741Z
LAST-MODIFIED:20260130T214927Z
UID:10000984-1864715400-1864744200@tobaccoplains.org
SUMMARY:Reiki Clinic
DESCRIPTION:*All our clinics are by appointment only* \nReiki Clinic runs on Fridays from 8:30 am – 4:30 pm \nFor questions or concerns or to book an appointment at any clinic call Reception: 250-887-3461 or email Kaleen at Kaleen.fowler@tobaccoplains.org
URL:https://tobaccoplains.org/tpib-event/reiki-clinic/2029-02-02
CATEGORIES:Health Care Clinics
END:VEVENT
BEGIN:VEVENT
DTSTART;TZID=America/Edmonton:20290209T083000
DTEND;TZID=America/Edmonton:20290209T163000
DTSTAMP:20260423T221559
CREATED:20260130T211741Z
LAST-MODIFIED:20260130T214927Z
UID:10000985-1865320200-1865349000@tobaccoplains.org
SUMMARY:Reiki Clinic
DESCRIPTION:*All our clinics are by appointment only* \nReiki Clinic runs on Fridays from 8:30 am – 4:30 pm \nFor questions or concerns or to book an appointment at any clinic call Reception: 250-887-3461 or email Kaleen at Kaleen.fowler@tobaccoplains.org
URL:https://tobaccoplains.org/tpib-event/reiki-clinic/2029-02-09
CATEGORIES:Health Care Clinics
END:VEVENT
BEGIN:VEVENT
DTSTART;TZID=America/Edmonton:20290216T083000
DTEND;TZID=America/Edmonton:20290216T163000
DTSTAMP:20260423T221559
CREATED:20260130T211741Z
LAST-MODIFIED:20260130T214927Z
UID:10000986-1865925000-1865953800@tobaccoplains.org
SUMMARY:Reiki Clinic
DESCRIPTION:*All our clinics are by appointment only* \nReiki Clinic runs on Fridays from 8:30 am – 4:30 pm \nFor questions or concerns or to book an appointment at any clinic call Reception: 250-887-3461 or email Kaleen at Kaleen.fowler@tobaccoplains.org
URL:https://tobaccoplains.org/tpib-event/reiki-clinic/2029-02-16
CATEGORIES:Health Care Clinics
END:VEVENT
BEGIN:VEVENT
DTSTART;TZID=America/Edmonton:20290223T083000
DTEND;TZID=America/Edmonton:20290223T163000
DTSTAMP:20260423T221559
CREATED:20260130T211741Z
LAST-MODIFIED:20260130T214927Z
UID:10000987-1866529800-1866558600@tobaccoplains.org
SUMMARY:Reiki Clinic
DESCRIPTION:*All our clinics are by appointment only* \nReiki Clinic runs on Fridays from 8:30 am – 4:30 pm \nFor questions or concerns or to book an appointment at any clinic call Reception: 250-887-3461 or email Kaleen at Kaleen.fowler@tobaccoplains.org
URL:https://tobaccoplains.org/tpib-event/reiki-clinic/2029-02-23
CATEGORIES:Health Care Clinics
END:VEVENT
BEGIN:VEVENT
DTSTART;TZID=America/Edmonton:20290302T083000
DTEND;TZID=America/Edmonton:20290302T163000
DTSTAMP:20260423T221559
CREATED:20260130T211741Z
LAST-MODIFIED:20260130T214927Z
UID:10000988-1867134600-1867163400@tobaccoplains.org
SUMMARY:Reiki Clinic
DESCRIPTION:*All our clinics are by appointment only* \nReiki Clinic runs on Fridays from 8:30 am – 4:30 pm \nFor questions or concerns or to book an appointment at any clinic call Reception: 250-887-3461 or email Kaleen at Kaleen.fowler@tobaccoplains.org
URL:https://tobaccoplains.org/tpib-event/reiki-clinic/2029-03-02
CATEGORIES:Health Care Clinics
END:VEVENT
BEGIN:VEVENT
DTSTART;TZID=America/Edmonton:20290309T083000
DTEND;TZID=America/Edmonton:20290309T163000
DTSTAMP:20260423T221559
CREATED:20260130T211741Z
LAST-MODIFIED:20260130T214927Z
UID:10000989-1867739400-1867768200@tobaccoplains.org
SUMMARY:Reiki Clinic
DESCRIPTION:*All our clinics are by appointment only* \nReiki Clinic runs on Fridays from 8:30 am – 4:30 pm \nFor questions or concerns or to book an appointment at any clinic call Reception: 250-887-3461 or email Kaleen at Kaleen.fowler@tobaccoplains.org
URL:https://tobaccoplains.org/tpib-event/reiki-clinic/2029-03-09
CATEGORIES:Health Care Clinics
END:VEVENT
BEGIN:VEVENT
DTSTART;TZID=America/Edmonton:20290316T083000
DTEND;TZID=America/Edmonton:20290316T163000
DTSTAMP:20260423T221559
CREATED:20260130T211741Z
LAST-MODIFIED:20260130T214927Z
UID:10000990-1868344200-1868373000@tobaccoplains.org
SUMMARY:Reiki Clinic
DESCRIPTION:*All our clinics are by appointment only* \nReiki Clinic runs on Fridays from 8:30 am – 4:30 pm \nFor questions or concerns or to book an appointment at any clinic call Reception: 250-887-3461 or email Kaleen at Kaleen.fowler@tobaccoplains.org
URL:https://tobaccoplains.org/tpib-event/reiki-clinic/2029-03-16
CATEGORIES:Health Care Clinics
END:VEVENT
BEGIN:VEVENT
DTSTART;TZID=America/Edmonton:20290323T083000
DTEND;TZID=America/Edmonton:20290323T163000
DTSTAMP:20260423T221559
CREATED:20260130T211741Z
LAST-MODIFIED:20260130T214927Z
UID:10000991-1868949000-1868977800@tobaccoplains.org
SUMMARY:Reiki Clinic
DESCRIPTION:*All our clinics are by appointment only* \nReiki Clinic runs on Fridays from 8:30 am – 4:30 pm \nFor questions or concerns or to book an appointment at any clinic call Reception: 250-887-3461 or email Kaleen at Kaleen.fowler@tobaccoplains.org
URL:https://tobaccoplains.org/tpib-event/reiki-clinic/2029-03-23
CATEGORIES:Health Care Clinics
END:VEVENT
BEGIN:VEVENT
DTSTART;TZID=America/Edmonton:20290330T083000
DTEND;TZID=America/Edmonton:20290330T163000
DTSTAMP:20260423T221559
CREATED:20260130T211741Z
LAST-MODIFIED:20260130T214927Z
UID:10000992-1869553800-1869582600@tobaccoplains.org
SUMMARY:Reiki Clinic
DESCRIPTION:*All our clinics are by appointment only* \nReiki Clinic runs on Fridays from 8:30 am – 4:30 pm \nFor questions or concerns or to book an appointment at any clinic call Reception: 250-887-3461 or email Kaleen at Kaleen.fowler@tobaccoplains.org
URL:https://tobaccoplains.org/tpib-event/reiki-clinic/2029-03-30
CATEGORIES:Health Care Clinics
END:VEVENT
BEGIN:VEVENT
DTSTART;TZID=America/Edmonton:20290406T083000
DTEND;TZID=America/Edmonton:20290406T163000
DTSTAMP:20260423T221559
CREATED:20260130T211741Z
LAST-MODIFIED:20260130T214927Z
UID:10000993-1870158600-1870187400@tobaccoplains.org
SUMMARY:Reiki Clinic
DESCRIPTION:*All our clinics are by appointment only* \nReiki Clinic runs on Fridays from 8:30 am – 4:30 pm \nFor questions or concerns or to book an appointment at any clinic call Reception: 250-887-3461 or email Kaleen at Kaleen.fowler@tobaccoplains.org
URL:https://tobaccoplains.org/tpib-event/reiki-clinic/2029-04-06
CATEGORIES:Health Care Clinics
END:VEVENT
BEGIN:VEVENT
DTSTART;TZID=America/Edmonton:20290413T083000
DTEND;TZID=America/Edmonton:20290413T163000
DTSTAMP:20260423T221559
CREATED:20260130T211741Z
LAST-MODIFIED:20260130T214927Z
UID:10000994-1870763400-1870792200@tobaccoplains.org
SUMMARY:Reiki Clinic
DESCRIPTION:*All our clinics are by appointment only* \nReiki Clinic runs on Fridays from 8:30 am – 4:30 pm \nFor questions or concerns or to book an appointment at any clinic call Reception: 250-887-3461 or email Kaleen at Kaleen.fowler@tobaccoplains.org
URL:https://tobaccoplains.org/tpib-event/reiki-clinic/2029-04-13
CATEGORIES:Health Care Clinics
END:VEVENT
BEGIN:VEVENT
DTSTART;TZID=America/Edmonton:20290420T083000
DTEND;TZID=America/Edmonton:20290420T163000
DTSTAMP:20260423T221559
CREATED:20260130T211741Z
LAST-MODIFIED:20260130T214927Z
UID:10000995-1871368200-1871397000@tobaccoplains.org
SUMMARY:Reiki Clinic
DESCRIPTION:*All our clinics are by appointment only* \nReiki Clinic runs on Fridays from 8:30 am – 4:30 pm \nFor questions or concerns or to book an appointment at any clinic call Reception: 250-887-3461 or email Kaleen at Kaleen.fowler@tobaccoplains.org
URL:https://tobaccoplains.org/tpib-event/reiki-clinic/2029-04-20
CATEGORIES:Health Care Clinics
END:VEVENT
BEGIN:VEVENT
DTSTART;TZID=America/Edmonton:20290427T083000
DTEND;TZID=America/Edmonton:20290427T163000
DTSTAMP:20260423T221559
CREATED:20260130T211741Z
LAST-MODIFIED:20260130T214927Z
UID:10000996-1871973000-1872001800@tobaccoplains.org
SUMMARY:Reiki Clinic
DESCRIPTION:*All our clinics are by appointment only* \nReiki Clinic runs on Fridays from 8:30 am – 4:30 pm \nFor questions or concerns or to book an appointment at any clinic call Reception: 250-887-3461 or email Kaleen at Kaleen.fowler@tobaccoplains.org
URL:https://tobaccoplains.org/tpib-event/reiki-clinic/2029-04-27
CATEGORIES:Health Care Clinics
END:VEVENT
BEGIN:VEVENT
DTSTART;TZID=America/Edmonton:20290504T083000
DTEND;TZID=America/Edmonton:20290504T163000
DTSTAMP:20260423T221559
CREATED:20260130T211741Z
LAST-MODIFIED:20260130T214927Z
UID:10000997-1872577800-1872606600@tobaccoplains.org
SUMMARY:Reiki Clinic
DESCRIPTION:*All our clinics are by appointment only* \nReiki Clinic runs on Fridays from 8:30 am – 4:30 pm \nFor questions or concerns or to book an appointment at any clinic call Reception: 250-887-3461 or email Kaleen at Kaleen.fowler@tobaccoplains.org
URL:https://tobaccoplains.org/tpib-event/reiki-clinic/2029-05-04
CATEGORIES:Health Care Clinics
END:VEVENT
BEGIN:VEVENT
DTSTART;TZID=America/Edmonton:20290511T083000
DTEND;TZID=America/Edmonton:20290511T163000
DTSTAMP:20260423T221559
CREATED:20260130T211741Z
LAST-MODIFIED:20260130T214927Z
UID:10000998-1873182600-1873211400@tobaccoplains.org
SUMMARY:Reiki Clinic
DESCRIPTION:*All our clinics are by appointment only* \nReiki Clinic runs on Fridays from 8:30 am – 4:30 pm \nFor questions or concerns or to book an appointment at any clinic call Reception: 250-887-3461 or email Kaleen at Kaleen.fowler@tobaccoplains.org
URL:https://tobaccoplains.org/tpib-event/reiki-clinic/2029-05-11
CATEGORIES:Health Care Clinics
END:VEVENT
BEGIN:VEVENT
DTSTART;TZID=America/Edmonton:20290518T083000
DTEND;TZID=America/Edmonton:20290518T163000
DTSTAMP:20260423T221559
CREATED:20260130T211741Z
LAST-MODIFIED:20260130T214927Z
UID:10000999-1873787400-1873816200@tobaccoplains.org
SUMMARY:Reiki Clinic
DESCRIPTION:*All our clinics are by appointment only* \nReiki Clinic runs on Fridays from 8:30 am – 4:30 pm \nFor questions or concerns or to book an appointment at any clinic call Reception: 250-887-3461 or email Kaleen at Kaleen.fowler@tobaccoplains.org
URL:https://tobaccoplains.org/tpib-event/reiki-clinic/2029-05-18
CATEGORIES:Health Care Clinics
END:VEVENT
BEGIN:VEVENT
DTSTART;TZID=America/Edmonton:20290525T083000
DTEND;TZID=America/Edmonton:20290525T163000
DTSTAMP:20260423T221559
CREATED:20260130T211741Z
LAST-MODIFIED:20260130T214927Z
UID:10001000-1874392200-1874421000@tobaccoplains.org
SUMMARY:Reiki Clinic
DESCRIPTION:*All our clinics are by appointment only* \nReiki Clinic runs on Fridays from 8:30 am – 4:30 pm \nFor questions or concerns or to book an appointment at any clinic call Reception: 250-887-3461 or email Kaleen at Kaleen.fowler@tobaccoplains.org
URL:https://tobaccoplains.org/tpib-event/reiki-clinic/2029-05-25
CATEGORIES:Health Care Clinics
END:VEVENT
BEGIN:VEVENT
DTSTART;TZID=America/Edmonton:20290601T083000
DTEND;TZID=America/Edmonton:20290601T163000
DTSTAMP:20260423T221559
CREATED:20260130T211741Z
LAST-MODIFIED:20260130T214927Z
UID:10001001-1874997000-1875025800@tobaccoplains.org
SUMMARY:Reiki Clinic
DESCRIPTION:*All our clinics are by appointment only* \nReiki Clinic runs on Fridays from 8:30 am – 4:30 pm \nFor questions or concerns or to book an appointment at any clinic call Reception: 250-887-3461 or email Kaleen at Kaleen.fowler@tobaccoplains.org
URL:https://tobaccoplains.org/tpib-event/reiki-clinic/2029-06-01
CATEGORIES:Health Care Clinics
END:VEVENT
BEGIN:VEVENT
DTSTART;TZID=America/Edmonton:20290608T083000
DTEND;TZID=America/Edmonton:20290608T163000
DTSTAMP:20260423T221559
CREATED:20260130T211741Z
LAST-MODIFIED:20260130T214927Z
UID:10001002-1875601800-1875630600@tobaccoplains.org
SUMMARY:Reiki Clinic
DESCRIPTION:*All our clinics are by appointment only* \nReiki Clinic runs on Fridays from 8:30 am – 4:30 pm \nFor questions or concerns or to book an appointment at any clinic call Reception: 250-887-3461 or email Kaleen at Kaleen.fowler@tobaccoplains.org
URL:https://tobaccoplains.org/tpib-event/reiki-clinic/2029-06-08
CATEGORIES:Health Care Clinics
END:VEVENT
BEGIN:VEVENT
DTSTART;TZID=America/Edmonton:20290615T083000
DTEND;TZID=America/Edmonton:20290615T163000
DTSTAMP:20260423T221559
CREATED:20260130T211741Z
LAST-MODIFIED:20260130T214927Z
UID:10001003-1876206600-1876235400@tobaccoplains.org
SUMMARY:Reiki Clinic
DESCRIPTION:*All our clinics are by appointment only* \nReiki Clinic runs on Fridays from 8:30 am – 4:30 pm \nFor questions or concerns or to book an appointment at any clinic call Reception: 250-887-3461 or email Kaleen at Kaleen.fowler@tobaccoplains.org
URL:https://tobaccoplains.org/tpib-event/reiki-clinic/2029-06-15
CATEGORIES:Health Care Clinics
END:VEVENT
BEGIN:VEVENT
DTSTART;TZID=America/Edmonton:20290622T083000
DTEND;TZID=America/Edmonton:20290622T163000
DTSTAMP:20260423T221559
CREATED:20260130T211741Z
LAST-MODIFIED:20260130T214927Z
UID:10001004-1876811400-1876840200@tobaccoplains.org
SUMMARY:Reiki Clinic
DESCRIPTION:*All our clinics are by appointment only* \nReiki Clinic runs on Fridays from 8:30 am – 4:30 pm \nFor questions or concerns or to book an appointment at any clinic call Reception: 250-887-3461 or email Kaleen at Kaleen.fowler@tobaccoplains.org
URL:https://tobaccoplains.org/tpib-event/reiki-clinic/2029-06-22
CATEGORIES:Health Care Clinics
END:VEVENT
BEGIN:VEVENT
DTSTART;TZID=America/Edmonton:20290629T083000
DTEND;TZID=America/Edmonton:20290629T163000
DTSTAMP:20260423T221559
CREATED:20260130T211741Z
LAST-MODIFIED:20260130T214927Z
UID:10001005-1877416200-1877445000@tobaccoplains.org
SUMMARY:Reiki Clinic
DESCRIPTION:*All our clinics are by appointment only* \nReiki Clinic runs on Fridays from 8:30 am – 4:30 pm \nFor questions or concerns or to book an appointment at any clinic call Reception: 250-887-3461 or email Kaleen at Kaleen.fowler@tobaccoplains.org
URL:https://tobaccoplains.org/tpib-event/reiki-clinic/2029-06-29
CATEGORIES:Health Care Clinics
END:VEVENT
BEGIN:VEVENT
DTSTART;TZID=America/Edmonton:20290706T083000
DTEND;TZID=America/Edmonton:20290706T163000
DTSTAMP:20260423T221559
CREATED:20260130T211741Z
LAST-MODIFIED:20260130T214927Z
UID:10001006-1878021000-1878049800@tobaccoplains.org
SUMMARY:Reiki Clinic
DESCRIPTION:*All our clinics are by appointment only* \nReiki Clinic runs on Fridays from 8:30 am – 4:30 pm \nFor questions or concerns or to book an appointment at any clinic call Reception: 250-887-3461 or email Kaleen at Kaleen.fowler@tobaccoplains.org
URL:https://tobaccoplains.org/tpib-event/reiki-clinic/2029-07-06
CATEGORIES:Health Care Clinics
END:VEVENT
BEGIN:VEVENT
DTSTART;TZID=America/Edmonton:20290713T083000
DTEND;TZID=America/Edmonton:20290713T163000
DTSTAMP:20260423T221559
CREATED:20260130T211741Z
LAST-MODIFIED:20260130T214927Z
UID:10001007-1878625800-1878654600@tobaccoplains.org
SUMMARY:Reiki Clinic
DESCRIPTION:*All our clinics are by appointment only* \nReiki Clinic runs on Fridays from 8:30 am – 4:30 pm \nFor questions or concerns or to book an appointment at any clinic call Reception: 250-887-3461 or email Kaleen at Kaleen.fowler@tobaccoplains.org
URL:https://tobaccoplains.org/tpib-event/reiki-clinic/2029-07-13
CATEGORIES:Health Care Clinics
END:VEVENT
BEGIN:VEVENT
DTSTART;TZID=America/Edmonton:20290720T083000
DTEND;TZID=America/Edmonton:20290720T163000
DTSTAMP:20260423T221559
CREATED:20260130T211741Z
LAST-MODIFIED:20260130T214927Z
UID:10001008-1879230600-1879259400@tobaccoplains.org
SUMMARY:Reiki Clinic
DESCRIPTION:*All our clinics are by appointment only* \nReiki Clinic runs on Fridays from 8:30 am – 4:30 pm \nFor questions or concerns or to book an appointment at any clinic call Reception: 250-887-3461 or email Kaleen at Kaleen.fowler@tobaccoplains.org
URL:https://tobaccoplains.org/tpib-event/reiki-clinic/2029-07-20
CATEGORIES:Health Care Clinics
END:VEVENT
BEGIN:VEVENT
DTSTART;TZID=America/Edmonton:20290727T083000
DTEND;TZID=America/Edmonton:20290727T163000
DTSTAMP:20260423T221559
CREATED:20260130T211741Z
LAST-MODIFIED:20260130T214927Z
UID:10001009-1879835400-1879864200@tobaccoplains.org
SUMMARY:Reiki Clinic
DESCRIPTION:*All our clinics are by appointment only* \nReiki Clinic runs on Fridays from 8:30 am – 4:30 pm \nFor questions or concerns or to book an appointment at any clinic call Reception: 250-887-3461 or email Kaleen at Kaleen.fowler@tobaccoplains.org
URL:https://tobaccoplains.org/tpib-event/reiki-clinic/2029-07-27
CATEGORIES:Health Care Clinics
END:VEVENT
BEGIN:VEVENT
DTSTART;TZID=America/Edmonton:20290803T083000
DTEND;TZID=America/Edmonton:20290803T163000
DTSTAMP:20260423T221559
CREATED:20260130T211741Z
LAST-MODIFIED:20260130T214927Z
UID:10001010-1880440200-1880469000@tobaccoplains.org
SUMMARY:Reiki Clinic
DESCRIPTION:*All our clinics are by appointment only* \nReiki Clinic runs on Fridays from 8:30 am – 4:30 pm \nFor questions or concerns or to book an appointment at any clinic call Reception: 250-887-3461 or email Kaleen at Kaleen.fowler@tobaccoplains.org
URL:https://tobaccoplains.org/tpib-event/reiki-clinic/2029-08-03
CATEGORIES:Health Care Clinics
END:VEVENT
BEGIN:VEVENT
DTSTART;TZID=America/Edmonton:20290810T083000
DTEND;TZID=America/Edmonton:20290810T163000
DTSTAMP:20260423T221559
CREATED:20260130T211741Z
LAST-MODIFIED:20260130T214927Z
UID:10001011-1881045000-1881073800@tobaccoplains.org
SUMMARY:Reiki Clinic
DESCRIPTION:*All our clinics are by appointment only* \nReiki Clinic runs on Fridays from 8:30 am – 4:30 pm \nFor questions or concerns or to book an appointment at any clinic call Reception: 250-887-3461 or email Kaleen at Kaleen.fowler@tobaccoplains.org
URL:https://tobaccoplains.org/tpib-event/reiki-clinic/2029-08-10
CATEGORIES:Health Care Clinics
END:VEVENT
BEGIN:VEVENT
DTSTART;TZID=America/Edmonton:20290817T083000
DTEND;TZID=America/Edmonton:20290817T163000
DTSTAMP:20260423T221559
CREATED:20260130T211741Z
LAST-MODIFIED:20260130T214927Z
UID:10001012-1881649800-1881678600@tobaccoplains.org
SUMMARY:Reiki Clinic
DESCRIPTION:*All our clinics are by appointment only* \nReiki Clinic runs on Fridays from 8:30 am – 4:30 pm \nFor questions or concerns or to book an appointment at any clinic call Reception: 250-887-3461 or email Kaleen at Kaleen.fowler@tobaccoplains.org
URL:https://tobaccoplains.org/tpib-event/reiki-clinic/2029-08-17
CATEGORIES:Health Care Clinics
END:VEVENT
END:VCALENDAR