BEGIN:VCALENDAR
VERSION:2.0
PRODID:-//Yaq̓it ʔa·knuqⱡi’it First Nation - ECPv6.15.7//NONSGML v1.0//EN
CALSCALE:GREGORIAN
METHOD:PUBLISH
X-ORIGINAL-URL:https://tobaccoplains.org
X-WR-CALDESC:Events for Yaq̓it ʔa·knuqⱡi’it First Nation
REFRESH-INTERVAL;VALUE=DURATION:PT1H
X-Robots-Tag:noindex
X-PUBLISHED-TTL:PT1H
BEGIN:VTIMEZONE
TZID:America/Edmonton
BEGIN:DAYLIGHT
TZOFFSETFROM:-0700
TZOFFSETTO:-0600
TZNAME:MDT
DTSTART:20250309T090000
END:DAYLIGHT
BEGIN:STANDARD
TZOFFSETFROM:-0600
TZOFFSETTO:-0700
TZNAME:MST
DTSTART:20251102T080000
END:STANDARD
BEGIN:DAYLIGHT
TZOFFSETFROM:-0700
TZOFFSETTO:-0600
TZNAME:MDT
DTSTART:20260308T090000
END:DAYLIGHT
BEGIN:STANDARD
TZOFFSETFROM:-0600
TZOFFSETTO:-0700
TZNAME:MST
DTSTART:20261101T080000
END:STANDARD
BEGIN:DAYLIGHT
TZOFFSETFROM:-0700
TZOFFSETTO:-0600
TZNAME:MDT
DTSTART:20270314T090000
END:DAYLIGHT
BEGIN:STANDARD
TZOFFSETFROM:-0600
TZOFFSETTO:-0700
TZNAME:MST
DTSTART:20271107T080000
END:STANDARD
END:VTIMEZONE
BEGIN:VEVENT
DTSTART;TZID=America/Edmonton:20260427T170000
DTEND;TZID=America/Edmonton:20260427T190000
DTSTAMP:20260421T060211
CREATED:20260330T164327Z
LAST-MODIFIED:20260420T170123Z
UID:10001123-1777309200-1777316400@tobaccoplains.org
SUMMARY:Wellbriety
DESCRIPTION:
URL:https://tobaccoplains.org/tpib-event/wellbriety/2026-04-27
END:VEVENT
BEGIN:VEVENT
DTSTART;TZID=America/Edmonton:20260504T170000
DTEND;TZID=America/Edmonton:20260504T190000
DTSTAMP:20260421T060211
CREATED:20260330T164327Z
LAST-MODIFIED:20260420T170123Z
UID:10001124-1777914000-1777921200@tobaccoplains.org
SUMMARY:Wellbriety
DESCRIPTION:
URL:https://tobaccoplains.org/tpib-event/wellbriety/2026-05-04
END:VEVENT
BEGIN:VEVENT
DTSTART;TZID=America/Edmonton:20260511T170000
DTEND;TZID=America/Edmonton:20260511T190000
DTSTAMP:20260421T060211
CREATED:20260330T164327Z
LAST-MODIFIED:20260420T170123Z
UID:10001125-1778518800-1778526000@tobaccoplains.org
SUMMARY:Wellbriety
DESCRIPTION:
URL:https://tobaccoplains.org/tpib-event/wellbriety/2026-05-11
END:VEVENT
BEGIN:VEVENT
DTSTART;TZID=America/Edmonton:20260518T170000
DTEND;TZID=America/Edmonton:20260518T190000
DTSTAMP:20260421T060211
CREATED:20260330T164327Z
LAST-MODIFIED:20260420T170123Z
UID:10001126-1779123600-1779130800@tobaccoplains.org
SUMMARY:Wellbriety
DESCRIPTION:
URL:https://tobaccoplains.org/tpib-event/wellbriety/2026-05-18
END:VEVENT
BEGIN:VEVENT
DTSTART;TZID=America/Edmonton:20260525T170000
DTEND;TZID=America/Edmonton:20260525T190000
DTSTAMP:20260421T060211
CREATED:20260330T164327Z
LAST-MODIFIED:20260420T170123Z
UID:10001127-1779728400-1779735600@tobaccoplains.org
SUMMARY:Wellbriety
DESCRIPTION:
URL:https://tobaccoplains.org/tpib-event/wellbriety/2026-05-25
END:VEVENT
END:VCALENDAR