BEGIN:VCALENDAR
VERSION:2.0
PRODID:-//Yaq̓it ʔa·knuqⱡi’it First Nation - ECPv6.15.7//NONSGML v1.0//EN
CALSCALE:GREGORIAN
METHOD:PUBLISH
X-WR-CALNAME:Yaq̓it ʔa·knuqⱡi’it First Nation
X-ORIGINAL-URL:https://tobaccoplains.org
X-WR-CALDESC:Events for Yaq̓it ʔa·knuqⱡi’it First Nation
REFRESH-INTERVAL;VALUE=DURATION:PT1H
X-Robots-Tag:noindex
X-PUBLISHED-TTL:PT1H
BEGIN:VTIMEZONE
TZID:America/Edmonton
BEGIN:DAYLIGHT
TZOFFSETFROM:-0700
TZOFFSETTO:-0600
TZNAME:MDT
DTSTART:20250309T090000
END:DAYLIGHT
BEGIN:STANDARD
TZOFFSETFROM:-0600
TZOFFSETTO:-0700
TZNAME:MST
DTSTART:20251102T080000
END:STANDARD
BEGIN:DAYLIGHT
TZOFFSETFROM:-0700
TZOFFSETTO:-0600
TZNAME:MDT
DTSTART:20260308T090000
END:DAYLIGHT
BEGIN:STANDARD
TZOFFSETFROM:-0600
TZOFFSETTO:-0700
TZNAME:MST
DTSTART:20261101T080000
END:STANDARD
BEGIN:DAYLIGHT
TZOFFSETFROM:-0700
TZOFFSETTO:-0600
TZNAME:MDT
DTSTART:20270314T090000
END:DAYLIGHT
BEGIN:STANDARD
TZOFFSETFROM:-0600
TZOFFSETTO:-0700
TZNAME:MST
DTSTART:20271107T080000
END:STANDARD
END:VTIMEZONE
BEGIN:VEVENT
DTSTART;TZID=America/Edmonton:20260421T090000
DTEND;TZID=America/Edmonton:20260421T160000
DTSTAMP:20260421T043139
CREATED:20260401T201007Z
LAST-MODIFIED:20260401T201007Z
UID:10001117-1776762000-1776787200@tobaccoplains.org
SUMMARY:Regular Council Meeting
DESCRIPTION:There will be a Regular Council Meeting on Tuesday\, April 21st\, 2026 at the YQT Administration Building.
URL:https://tobaccoplains.org/tpib-event/regular-council-meeting-3
CATEGORIES:Events
END:VEVENT
BEGIN:VEVENT
DTSTART;TZID=America/Edmonton:20260421T100000
DTEND;TZID=America/Edmonton:20260421T160000
DTSTAMP:20260421T043139
CREATED:20260130T205608Z
LAST-MODIFIED:20260130T205608Z
UID:10000052-1776765600-1776787200@tobaccoplains.org
SUMMARY:Acupuncture
DESCRIPTION:Acupuncture runs Tuesdays from 10 am – 4 pm at the YQT Administration Building.  To book\, please call Reception: 250-887-3461 or email Kaleen at Kaleen.fowler@tobaccoplains.org
URL:https://tobaccoplains.org/tpib-event/acupuncture/2026-04-21
CATEGORIES:Health Care Clinics
END:VEVENT
END:VCALENDAR